BEGIN:VCALENDAR
VERSION:2.0
PRODID:-//Acrisure Arena - ECPv6.15.18//NONSGML v1.0//EN
CALSCALE:GREGORIAN
METHOD:PUBLISH
X-ORIGINAL-URL:https://acrisurearena.com
X-WR-CALDESC:Events for Acrisure Arena
REFRESH-INTERVAL;VALUE=DURATION:PT1H
X-Robots-Tag:noindex
X-PUBLISHED-TTL:PT1H
BEGIN:VTIMEZONE
TZID:America/Los_Angeles
BEGIN:DAYLIGHT
TZOFFSETFROM:-0800
TZOFFSETTO:-0700
TZNAME:PDT
DTSTART:20230312T100000
END:DAYLIGHT
BEGIN:STANDARD
TZOFFSETFROM:-0700
TZOFFSETTO:-0800
TZNAME:PST
DTSTART:20231105T090000
END:STANDARD
BEGIN:DAYLIGHT
TZOFFSETFROM:-0800
TZOFFSETTO:-0700
TZNAME:PDT
DTSTART:20240310T100000
END:DAYLIGHT
BEGIN:STANDARD
TZOFFSETFROM:-0700
TZOFFSETTO:-0800
TZNAME:PST
DTSTART:20241103T090000
END:STANDARD
BEGIN:DAYLIGHT
TZOFFSETFROM:-0800
TZOFFSETTO:-0700
TZNAME:PDT
DTSTART:20250309T100000
END:DAYLIGHT
BEGIN:STANDARD
TZOFFSETFROM:-0700
TZOFFSETTO:-0800
TZNAME:PST
DTSTART:20251102T090000
END:STANDARD
END:VTIMEZONE
BEGIN:VEVENT
DTSTART;TZID=America/Los_Angeles:20241004T193000
DTEND;TZID=America/Los_Angeles:20241004T223000
DTSTAMP:20260421T025624
CREATED:20240517T130036Z
LAST-MODIFIED:20241004T000638Z
UID:8427-1728070200-1728081000@acrisurearena.com
SUMMARY:Minnesota Timberwolves vs. Los Angeles Lakers
DESCRIPTION:The Los Angeles Lakers will open the preseason in the Desert Duel presented by Spotlight 29 Casino with two games at Acrisure Arena\, hosting Minnesota Timberwolves Oct. 4 and Phoenix Suns Oct. 6. \nTickets at Ticketmaster.com  \nTIMES: \nPatio: 6:00pm\nDoors: 6:30pm\nGame: 7:30pm \nNBA BAG POLICY: We highly encourage the use of clear bags or no bags at all. Small clutches\, purses\, or wallets are permitted\, provided they do not exceed 4.5″ x 6.5″\, with or without a handle or strap. Please note that all permitted bags will go through an X-Ray Machine at either our Spotlight 29 Casino Main Entrance or Chairman’s 29 North Premium entrance. \nGames: \n\nFriday\, October 4\, 7:30pm – Minnesota Timberwolves vs. Los Angeles Lakers\nSunday\, October 6\, 6:30pm – Phoenix Suns vs. Los Angeles Lakers\n\nELEVATE YOUR CONCERT EXPERIENCE! Purchasing tickets in the 201-206 and 227-223 sections on the premium Silvercrest Level include upscale amenities including cushioned seats\, upscale food and beverage options\, premium bathrooms and superior service. \n Tickets in the 200 sections are available at Ticketmaster. \n \nThe Lakers most recently hosted the Phoenix Suns at a sold-out Acrisure Arena during the 2023 preseason. Be here to witness history as the Lakers new head coach\, JJ Redick brings top players and new draft picks to greater Palm Springs. Will we see Bronny James and Dalton Knecht wear the Lakers jersey here first? 
URL:https://acrisurearena.com/event/lakers-vs-timberwolves-2024/
LOCATION:Acrisure Arena\, 75702 Varner Rd\, Palm Desert\, CA\, 92211\, United States
CATEGORIES:Sports,Stand Together Series
ATTACH;FMTTYPE=image/jpeg:https://acrisurearena.com/wp-content/uploads/2024/05/241004_Lakers_Timberwolves-1920x1080-1.jpg
END:VEVENT
BEGIN:VEVENT
DTSTART;TZID=America/Los_Angeles:20241006T183000
DTEND;TZID=America/Los_Angeles:20241006T230000
DTSTAMP:20260421T025624
CREATED:20240517T130002Z
LAST-MODIFIED:20241005T184136Z
UID:8449-1728239400-1728255600@acrisurearena.com
SUMMARY:Phoenix Suns vs. Los Angeles Lakers
DESCRIPTION:The Los Angeles Lakers will open the preseason in the Desert Duel presented by Spotlight 29 Casino with two games at Acrisure Arena\, hosting Minnesota Timberwolves Oct. 4 and Phoenix Suns Oct. 6. \nTickets are still available at Ticketmaster.com and in-person with no convenience fees at the Ticketmaster Box Office at Acrisure Arena starting at 10am Sunday\, October 4. \nSUNDAY TIMES: \nPatio: 5:00pm\nDoors: 5:30pm\nTip-Off: 6:30pm \nNBA BAG POLICY: We highly encourage the use of clear bags or no bags at all. Small clutches\, purses\, or wallets are permitted\, provided they do not exceed 4.5″ x 6.5″\, with or without a handle or strap. Please note that all permitted bags will go through an X-Ray Machine at either our Spotlight 29 Casino Main Entrance or Chairman’s 29 North Premium entrance.
URL:https://acrisurearena.com/event/lakers-vs-suns-2024/
LOCATION:Acrisure Arena\, 75702 Varner Rd\, Palm Desert\, CA\, 92211\, United States
CATEGORIES:Sports,Stand Together Series
ATTACH;FMTTYPE=image/jpeg:https://acrisurearena.com/wp-content/uploads/2024/05/241004_Lakers_Suns-1920x1080-1.jpg
END:VEVENT
BEGIN:VEVENT
DTSTART;TZID=America/Los_Angeles:20241010T193000
DTEND;TZID=America/Los_Angeles:20241010T235900
DTSTAMP:20260421T025624
CREATED:20240401T135959Z
LAST-MODIFIED:20241010T172327Z
UID:8211-1728588600-1728604740@acrisurearena.com
SUMMARY:Eric Clapton
DESCRIPTION:Eric Clapton with special guest Jimmie Vaughan perform at Acrisure Arena on October 10\, 2024. \nTickets at Ticketmaster.com\, the official ticketing provider of Acrisure Arena.  \nTIMES: \nPatio: 6:00pmThe Compound: 6:30pmDoors: 6:30pmEvent: 7:30pm \n\n\n\nNEW! Upgrade any ticket for $165 when you add-on our VIP PREMIUM space\, The Compound. The Eric Clapton concert will feature the Golden Hour Pass. Get the party started here! \nThe Compound offers fans access to: \n\na stunning outdoor space with sunset mountain views\ncomplimentary beer and wine bar (spirits additional) and a generous buffet\nexclusive event merchandise options\ncovered seating\n9-hole mini-golf\nhalf-court basketball\npickleball\ncorn hole\nbocce ball\n\nSpace is limited and will sell out. Upgrade pass available at Ticketmaster. \n \nOnce a member of such seminal bands as the Yardbirds\, Blind Faith\, and Cream\, Eric Clapton has carved out an unrivaled career\, garnering countless awards and accolades\, including 18 GRAMMY awards\, and played sold-out performances all over the world.
URL:https://acrisurearena.com/event/eric-clapton/
LOCATION:Acrisure Arena\, 75702 Varner Rd\, Palm Desert\, CA\, 92211\, United States
CATEGORIES:Concerts,Stand Together Series
ATTACH;FMTTYPE=image/png:https://acrisurearena.com/wp-content/uploads/2024/04/1920x1080_eric-clapton.png
END:VEVENT
BEGIN:VEVENT
DTSTART;TZID=America/Los_Angeles:20241011T190000
DTEND;TZID=America/Los_Angeles:20241011T235900
DTSTAMP:20260421T025624
CREATED:20240724T184117Z
LAST-MODIFIED:20241010T214023Z
UID:8842-1728673200-1728691140@acrisurearena.com
SUMMARY:Bakersfield Condors vs. CV Firebirds
DESCRIPTION:The Coachella Valley Firebirds drop the puck for the 24-25 Season Friday\, October 11\, 7pm. Get tickets for the Home Opener vs the Bakersfield Condors. Save on fees at the box office with tickets starting at only $29. \n\nPlayer Red Carpet Arrival (4:20pm)\nGiveaway: 2023-24 Western Conference Mini Banner\nInflatable puck shoot\nPhoto Booth\nDrink Sampling*\nSponsorship Activations\nDJ in the Plaza\n\nTickets at Ticketmaster.com\, the official ticketing provider of Acrisure Arena. \nTIMES: \nPlayer Red Carpet Arrival: 4:30pm\nPatio: 5:30pm\nDoors: 5:45pm\nEvent: 7:00pm \nSEASON TICKET PACKAGES\nGuarantee your seats for the 2024-25 season with a Season Membership including the 2024-25 AHL All-Star Classic. Learn more at cvfirebirds.com/seasontickets \nALL STAR CLASSIC TICKETS\nIndividual game tickets for the 2025 AHL All Star Classic\, presented by Spotlight 29\, will be available at a later date. \nGROUP TICKETS\nBring a group of 10 or more people and enjoy ticket discounts and access to memorable benefits only available to group outings. Receive special pricing\, exclusive opportunities\, and a great experience when you bring your group out to a Firebirds game! Whether you are looking to host a company outing\, celebrate a birthday\, entertain clients\, or enjoy a family fun school night\, the Firebirds have options for every occasion. For more information on Firebirds group tickets\, click HERE.
URL:https://acrisurearena.com/event/bakersfield-condors-vs-cv-firebirds-10112024/
LOCATION:Acrisure Arena\, 75702 Varner Rd\, Palm Desert\, CA\, 92211\, United States
CATEGORIES:Firebirds,Stand Together Series
ATTACH;FMTTYPE=image/png:https://acrisurearena.com/wp-content/uploads/2024/07/Bakersfield_1920x1080_TicketmasterThumbnails2.png
END:VEVENT
BEGIN:VEVENT
DTSTART;TZID=America/Los_Angeles:20241012T190000
DTEND;TZID=America/Los_Angeles:20241012T233000
DTSTAMP:20260421T025624
CREATED:20240624T150015Z
LAST-MODIFIED:20241010T172232Z
UID:8690-1728759600-1728775800@acrisurearena.com
SUMMARY:Weezer
DESCRIPTION:Weezer’s celebrating 30 years of The Blue Album\, and dropping a super deluxe edition of the album on November 1st! Pre-order yours today https://weezer.lnk.to/Blue30. Catch them out on the Voyage to the Blue Planet Tour now. 🚀🪐 \nTickets at Ticketmaster.com\, the official ticketing provider of Acrisure Arena. \nTIMES: \nThe Compound: 5:30pm\nPatio: 5:30pm\nDoors: 6:00pm\nEvent: 7:00pm \nNEW! Upgrade your ticket for $55 when you add-on our VIP PREMIUM space\, The Compound. The Weezer concert will feature the Par-Tee Pass.\nGet the party started here! Looking to enhance your experience before the concert? Upgrade any ticket for access to The Compound\, the newest VIP space at Acrisure Arena. The Compound offers fans access to: \n\na stunning outdoor space with sunset mountain views\n(1) complimentary beer\, wine or soft drink at our full service bar\ndelicious buffet for purchase\ncovered seating with cozy couches\n9-hole mini-golf\nhalf-court basketball\npickleball\ncorn hole\nbocce ball\n\nSpace is limited and will sell out. Upgrade pass available at Ticketmaster. \nELEVATE YOUR CONCERT EXPERIENCE! Purchasing tickets in the 201-206 and 227-223 sections on the premium Silvercrest Level include upscale amenities including cushioned seats\, upscale food and beverage options\, premium bathrooms and superior service. \n Tickets in the 200 sections are available at Ticketmaster. \n \nAn instantly recognizable cultural touchstone of the 1990s\, Weezer (the Blue Album) has garnered such a firm place in the musical pantheon of the last three decades that it serves as an entry point into music for nascent listeners. A testament to the band’s staying power\, tracks like “Buddy Holly” and “Say It Ain’t So” have earned hundreds of millions of streams and endless placements in TV shows and movies.
URL:https://acrisurearena.com/event/weezer/
LOCATION:Acrisure Arena\, 75702 Varner Rd\, Palm Desert\, CA\, 92211\, United States
CATEGORIES:Concerts,Stand Together Series
ATTACH;FMTTYPE=image/png:https://acrisurearena.com/wp-content/uploads/2024/09/Acrisure-Arena_weezer_concert-photo-1.png
END:VEVENT
BEGIN:VEVENT
DTSTART;TZID=America/Los_Angeles:20241013T200000
DTEND;TZID=America/Los_Angeles:20241013T233000
DTSTAMP:20260421T025624
CREATED:20240618T140034Z
LAST-MODIFIED:20241010T175706Z
UID:8708-1728849600-1728862200@acrisurearena.com
SUMMARY:Ivan Cornejo
DESCRIPTION:20-year-old Música Mexicana break-out star\, Ivan Cornejo\, performs at Acrisure Arena on Sunday\, October 13. \nTickets at Ticketmaster.com\, the official ticketing provider of Acrisure Arena. \nTIMES: \nThe Compound: 6:30pm\nPatio: 6:30pm\nDoors: 7:00pm\nEvent: 8:00pm \nNEW! Upgrade any ticket for $55 when you add-on our VIP PREMIUM space\, The Compound. The Ivan Cornejo concert will feature the Par-Tee Pass. Get the party started here! The Compound offers fans access to: \n\na stunning outdoor space with sunset mountain views\n(1) complimentary beer\, wine or soft drink at our full service bar\ndelicious buffet available for purchase\ncovered seating with cozy couches\n9-hole mini-golf\nhalf-court basketball\npickleball\ncorn hole\nbocce ball\n\nELEVATE YOUR CONCERT EXPERIENCE! Purchasing tickets in the 201-206 and 227-223 sections on the premium Silvercrest Level include upscale amenities including cushioned seats\, upscale food and beverage options\, premium bathrooms and superior service. \n Tickets in the 200 sections are available at Ticketmaster. \n \nEarlier this year\, Ivan performed a record-breaking show in front of 72\,000 people at a sold-out Rodeo Houston stadium show. The experience was daunting for the introspective then 19 year-old artist who only a couple of years ago was busy on TikTok\, posting his confessional songs about having his heart broken in middle school. But the power of his own music – and a devoted fan base – carried him along during the biggest show of his career so far. Cornejo has plenty of reasons to be excited about. His dreamy music – a sophisticated combination of sad sierreño roots and hazy\, alternative-rock vibes – resonates with young listeners who identify with his bicultural sensibility\, quiet demeanor and the need to let the songs speak for themselves. With over 1.6 billion combined streams\, he is currently a leading música mexicana artist in the U.S.\, and top 10 in the overall Latin market.
URL:https://acrisurearena.com/event/ivan-cornejo/
LOCATION:Acrisure Arena\, 75702 Varner Rd\, Palm Desert\, CA\, 92211\, United States
CATEGORIES:Concerts,Stand Together Series
ATTACH;FMTTYPE=image/jpeg:https://acrisurearena.com/wp-content/uploads/2024/06/241013_Ivan-Cornejo_1920x1080_photo.jpg
END:VEVENT
BEGIN:VEVENT
DTSTART;TZID=America/Los_Angeles:20241016T190000
DTEND;TZID=America/Los_Angeles:20241016T235900
DTSTAMP:20260421T025624
CREATED:20240724T184717Z
LAST-MODIFIED:20241001T231637Z
UID:8843-1729105200-1729123140@acrisurearena.com
SUMMARY:Calgary Wranglers vs. CV Firebirds
DESCRIPTION:The Coachella Valley Firebirds go against the Calgary Wranglers on October 16\, 7pm. \nTickets at Ticketmaster\, the official ticketing provider of Acrisure Arena \nTIMES \nPatio: 5:30pm\nDoors: 5:45pm\nEvent: 7:00pm \nSEASON TICKET PACKAGES\nGuarantee your seats for the 2024-25 season with a Season Membership including the 2024-25 AHL All-Star Classic. Learn more at cvfirebirds.com/seasontickets \nALL STAR CLASSIC TICKETS\nIndividual game tickets for the 2025 AHL All Star Classic\, presented by Spotlight 29\, will be available at a later date. \nGROUP TICKETS\nBring a group of 10 or more people and enjoy ticket discounts and access to memorable benefits only available to group outings. Receive special pricing\, exclusive opportunities\, and a great experience when you bring your group out to a Firebirds game! Whether you are looking to host a company outing\, celebrate a birthday\, entertain clients\, or enjoy a family fun school night\, the Firebirds have options for every occasion. For more information on Firebirds group tickets\, click HERE. \n  \n 
URL:https://acrisurearena.com/event/calgary-wranglers-vs-cv-firebirds-101624/
LOCATION:Acrisure Arena\, 75702 Varner Rd\, Palm Desert\, CA\, 92211\, United States
CATEGORIES:Firebirds,Stand Together Series
ATTACH;FMTTYPE=image/png:https://acrisurearena.com/wp-content/uploads/2024/07/Calgary_1920x1080_TicketmasterThumbnails3.png
END:VEVENT
BEGIN:VEVENT
DTSTART;TZID=America/Los_Angeles:20241018T200000
DTEND;TZID=America/Los_Angeles:20241018T230000
DTSTAMP:20260421T025624
CREATED:20240318T190003Z
LAST-MODIFIED:20241018T201500Z
UID:8106-1729281600-1729292400@acrisurearena.com
SUMMARY:Grupo Firme
DESCRIPTION:Grupo Firme returns Friday\, October 18\, 2024 with La Última Peda Tour 2024. \nTickets at Ticketmaster.com.\, the official ticketing provider of Acrisure Arena. \nTIMES: \nSilvercrest Compound: 6:30pm\nThe Patio: 6:30pm\nDoors: 7:00pm\nEvent: 8:00pm \nVIP:  Fans can purchase VIP Packages\, which may include premium tickets\, pre-show soundcheck with Grupo Firme\, VIP Lounge\, exclusive merchandise item & more. VIP package contents vary based on offer selected. For more information\, visit vipnation.com! \nNEW! Upgrade your ticket for $55 when you add-on our VIP PREMIUM space\, the Silvercrest Compound. The Grupo Firme concert will feature the Par-Tee Pass. \n\nGet the party started here! Looking to enhance your experience before the concert? Upgrade any ticket for access to the Silvercrest Compound\, the newest VIP space at Acrisure Arena. \nThe Silvercrest Compound offers fans access to: \n\na stunning outdoor space with sunset mountain views\n(1) complimentary beer\, wine or soft drink at our full service bar\ndelicious buffet for purchase\ncovered seating with cozy couches\n9-hole mini-golf\nhalf-court basketball\npickleball\ncorn hole\nbocce ball\n\nSpace is limited and will sell out. Upgrade options are available at Ticketmaster.
URL:https://acrisurearena.com/event/grupo-firme-2/
LOCATION:Acrisure Arena\, 75702 Varner Rd\, Palm Desert\, CA\, 92211\, United States
CATEGORIES:Concerts,Stand Together Series
ATTACH;FMTTYPE=image/png:https://acrisurearena.com/wp-content/uploads/2024/03/Acrisure-Arena_grupo-firme_new-artwork.png
END:VEVENT
BEGIN:VEVENT
DTSTART;TZID=America/Los_Angeles:20241025T190000
DTEND;TZID=America/Los_Angeles:20241025T235900
DTSTAMP:20260421T025624
CREATED:20240724T184921Z
LAST-MODIFIED:20241025T233418Z
UID:8844-1729882800-1729900740@acrisurearena.com
SUMMARY:Ontario Reign vs. CV Firebirds
DESCRIPTION:The Coachella Valley Firebirds go against the Ontario Reign on Friday\, October 25\, 7pm. \nTickets at Ticketmaster\, the official ticketing provider of Acrisure Arena. \nTIMES: \nThe Patio: 5:30pm\nDoors: 5:45pm\nEvent: 7:00pm \nNEW! Upgrade your ticket for $27.50 when you add-on our new VIP PREMIUM space\, the Silvercrest Compound. The Firebirds vs. Reign will feature the Flight Pass. \nThe Silvercrest Compound offers fans access to: \n\na stunning outdoor space with sunset mountain views\ndedicated full bar for purchase\ndelicious buffet for purchase\ncovered seating with cozy couches\n9-hole mini-golf\nhalf-court basketball\npickleball\ncorn hole\nbocce Ball\n\nSpace is limited and will sell out. Upgrade at Ticketmaster. \nSEASON TICKET PACKAGES\nGuarantee your seats for the 2024-25 season with a Season Membership including the 2024-25 AHL All-Star Classic. Learn more at cvfirebirds.com/seasontickets \nALL STAR CLASSIC TICKETS\nIndividual game tickets for the 2025 AHL All Star Classic\, presented by Spotlight 29\, will be available at a later date. \nGROUP TICKETS\nBring a group of 10 or more people and enjoy ticket discounts and access to memorable benefits only available to group outings. Receive special pricing\, exclusive opportunities\, and a great experience when you bring your group out to a Firebirds game! Whether you are looking to host a company outing\, celebrate a birthday\, entertain clients\, or enjoy a family fun school night\, the Firebirds have options for every occasion. For more information on Firebirds group tickets\, click HERE.
URL:https://acrisurearena.com/event/ontario-reign-vs-cv-firebirds-102524/
LOCATION:Acrisure Arena\, 75702 Varner Rd\, Palm Desert\, CA\, 92211\, United States
CATEGORIES:Firebirds,Stand Together Series
ATTACH;FMTTYPE=image/png:https://acrisurearena.com/wp-content/uploads/2024/07/1920X1080-Dia-de-Los-Muertos-REV.png
END:VEVENT
BEGIN:VEVENT
DTSTART;TZID=America/Los_Angeles:20241026T170000
DTEND;TZID=America/Los_Angeles:20241026T220000
DTSTAMP:20260421T025624
CREATED:20241007T125949Z
LAST-MODIFIED:20241026T212414Z
UID:9369-1729962000-1729980000@acrisurearena.com
SUMMARY:Gonzaga vs. USC Men's Charity Basketball Exhibition
DESCRIPTION:Acrisure Arena is set to host an exhilarating exhibition men’s basketball showdown on Saturday\, October 26\, pitting two of the west coast’s most prominent college basketball programs—the No. 5-ranked Gonzaga Bulldogs and the USC Trojans—against each other in what promises to be an unforgettable clash. \nIn this high-octane pre-season matchup\, fans will witness elite competition while contributing to a great cause\, as proceeds will help support Eisenhower Cardiovascular Institute\, supporting their lifesaving work in the Coachella Valley.  Learn more HERE. \nALL SEATS ARE GENERAL ADMISSION (Except reserved FLOOR seats) \n\nSeats are first come\, first served. You may not ‘hold’ seats for other guests that have not yet arrived.\nThe digital general admission ticket MAY have numbers and letters in the Section | Row | Seat area but rest assured\, you may sit anywhere in the 100 Lower General Admission sections providing seats are not roped off or designated as Reserved seats.\n\nTickets at Ticketmaster.com\, the official ticketing provider of Acrisure Arena. \nTIMES:\nSilvercrest Compound & The Patio: 4:00pm\nDoors: 4:00pm\nEvent: 5:00pm \nAcrisure Arena is celebrating collegiate basketball for the month of October! All paid ticket holders of the Gonzaga vs USC Exhibition Game will receive a promo code to receive the same number of complimentary tickets to the upcoming Acrisure Series\, taking place November 26 – 29\, 2024. \nNEW! Upgrade your ticket for $27.50 when you add-on our new VIP PREMIUM space\, the Silvercrest Compound. The Gonzaga vs. USC Men’s Basketball Exhibition will feature the Flight Pass. \nThe Silvercrest Compound offers fans access to: \n\na stunning outdoor space with sunset mountain views\ndedicated full bar for purchase\ndelicious buffet for purchase\ncovered seating with cozy couches\n9-hole mini-golf\nhalf-court basketball\npickleball\ncorn hole\nbocce Ball\n\nSpace is limited and will sell out. Upgrade at Ticketmaster.
URL:https://acrisurearena.com/event/gonzaga-vs-usc/
LOCATION:Acrisure Arena\, 75702 Varner Rd\, Palm Desert\, CA\, 92211\, United States
CATEGORIES:Sports,Stand Together Series
ATTACH;FMTTYPE=image/png:https://acrisurearena.com/wp-content/uploads/2024/10/Acrisure-Arena_USCGonzaga.png
END:VEVENT
END:VCALENDAR