BEGIN:VCALENDAR
VERSION:2.0
PRODID:-//Acrisure Arena - ECPv6.15.18//NONSGML v1.0//EN
CALSCALE:GREGORIAN
METHOD:PUBLISH
X-ORIGINAL-URL:https://acrisurearena.com
X-WR-CALDESC:Events for Acrisure Arena
REFRESH-INTERVAL;VALUE=DURATION:PT1H
X-Robots-Tag:noindex
X-PUBLISHED-TTL:PT1H
BEGIN:VTIMEZONE
TZID:America/Los_Angeles
BEGIN:DAYLIGHT
TZOFFSETFROM:-0800
TZOFFSETTO:-0700
TZNAME:PDT
DTSTART:20230312T100000
END:DAYLIGHT
BEGIN:STANDARD
TZOFFSETFROM:-0700
TZOFFSETTO:-0800
TZNAME:PST
DTSTART:20231105T090000
END:STANDARD
BEGIN:DAYLIGHT
TZOFFSETFROM:-0800
TZOFFSETTO:-0700
TZNAME:PDT
DTSTART:20240310T100000
END:DAYLIGHT
BEGIN:STANDARD
TZOFFSETFROM:-0700
TZOFFSETTO:-0800
TZNAME:PST
DTSTART:20241103T090000
END:STANDARD
BEGIN:DAYLIGHT
TZOFFSETFROM:-0800
TZOFFSETTO:-0700
TZNAME:PDT
DTSTART:20250309T100000
END:DAYLIGHT
BEGIN:STANDARD
TZOFFSETFROM:-0700
TZOFFSETTO:-0800
TZNAME:PST
DTSTART:20251102T090000
END:STANDARD
END:VTIMEZONE
BEGIN:VEVENT
DTSTART;TZID=America/Los_Angeles:20240901T200000
DTEND;TZID=America/Los_Angeles:20240901T233000
DTSTAMP:20260421T043342
CREATED:20240425T170050Z
LAST-MODIFIED:20240828T202706Z
UID:8351-1725220800-1725233400@acrisurearena.com
SUMMARY:Carin León
DESCRIPTION:Carin León performs at Acrisure Arena on Sunday\, September 1. \nTickets at Ticketmaster.com\, the official ticketing provider of Acrisure Arena. \nNEW! Upgrade your ticket for $165 when you add-on our VIP PREMIUM space\, The Compound. The Carin León concert will feature the Golden Hour Pass. Get the party started here! Looking to enhance your experience before the concert? Upgrade any ticket for access to The Compound\, the newest VIP space at Acrisure Arena. \nThe Compound offers fans access to: \n\na stunning outdoor space with sunset mountain views\ncomplimentary beer and wine bar (spirits additional)\na generous buffet (see menu below)\nexclusive merchandise options\ncovered seating\n9-hole mini-golf\nhalf-court basketball\npickleball\ncorn hole\nbocce ball\n\nThe Compound Buffet Menu: Make your Carin Leon concert night special at The Compound with a complimentary buffet of themed dishes! Enjoy food items like: \n\n“El Malo” Southwest Chicken Cobb (GF)(V)\n“El Leon” Steak Tacos (GF)\n“Necesito Encontrarte” Chile Rellenos (V)\n“La Envidia” Shrimp and Bay Scallop Ceviche Cups (GF)\n“De Mi Viejo” Chicken Mole (V)\n“Otra Vez” Charro Beans & Rice (GF)(V)\n“Despidate Bien” Churros\, Cookies\, and Lemon Bars (V)\n\n*These exclusive menu items are only available to guests in The Compound! \nSpace is limited and will sell out. Upgrade pass available at Ticketmaster.
URL:https://acrisurearena.com/event/carin-leon/
LOCATION:Acrisure Arena\, 75702 Varner Rd\, Palm Desert\, CA\, 92211\, United States
CATEGORIES:Concerts,Stand Together Series
ATTACH;FMTTYPE=image/jpeg:https://acrisurearena.com/wp-content/uploads/2024/04/240901_Carin-Leon_NEW-v2_1920x1080.jpg
END:VEVENT
BEGIN:VEVENT
DTSTART;TZID=America/Los_Angeles:20240907T193000
DTEND;TZID=America/Los_Angeles:20240907T230000
DTSTAMP:20260421T043342
CREATED:20231113T145812Z
LAST-MODIFIED:20240907T021256Z
UID:7419-1725737400-1725750000@acrisurearena.com
SUMMARY:Chicago + Earth\, Wind & Fire
DESCRIPTION:Chicago + Earth\, Wind & Fire will perform at Acrisure Arena on Saturday\, September 7\, 2024. \nTickets at Ticketmaster\, the official ticketing provider of Acrisure Arena. \nThe Patio/The Compound: 6:00pm\nDoors: 6:00pm\nShow: 7:30pm \nThe concert begins promptly at 7:30pm. Earth\, Wind & Fire will take the stage first and after a short intermission\, Chicago plays. Stay in your seats as you won’t want to miss an incredible encore with BOTH BANDS ON STAGE! \nMusic legends Earth\, Wind & Fire and Chicago\, two of the most successful and critically-acclaimed bands of all time\, are returning with their renowned co-headlining tour across North America – Heart & Soul Tour 2024. The Live Nation produced tour brings together the timeless music of Chicago and the iconic catalog of Earth\, Wind & Fire for one unforgettable night of music filled with epic sets from each artist that will culminate in an encore performance with both bands on stage together. \nNEW! Upgrade your ticket for $165 when you add-on our VIP PREMIUM space\, The Compound. Chicago + Earth\, Wind & Fire will feature the Golden Hour Pass.\nLooking to enhance your experience before the concert? Upgrade any ticket for access to The Compound\, the newest VIP space at Acrisure Arena. The Compound offers fans access to: \n\na stunning outdoor space with sunset mountain views\ncomplimentary beer and wine bar (spirits additional) and a generous buffet\nexclusive merchandise options\ncovered seating\nfirepits\n9-hole mini-golf\nhalf-court basketball\npickleball\ncorn hole\nbocce ball\n\nSpace is limited and will sell out. Upgrade options are available at Ticketmaster. \nELEVATE YOUR CONCERT EXPERIENCE! Purchasing tickets in the 201-206 and 227-223 sections on the premium Silvercrest Level include upscale amenities including cushioned seats\, upscale food and beverage options\, premium bathrooms\, all often with shorter lines than the Main Concourse level. Tickets in the 200 sections are available at Ticketmaster.
URL:https://acrisurearena.com/event/chicago-earth-wind-fire/
LOCATION:Acrisure Arena\, 75702 Varner Rd\, Palm Desert\, CA\, 92211\, United States
CATEGORIES:Concerts,Stand Together Series
ATTACH;FMTTYPE=image/jpeg:https://acrisurearena.com/wp-content/uploads/2023/11/240907_Chicago-EWF_1920x1080-1.jpg
END:VEVENT
BEGIN:VEVENT
DTSTART;TZID=America/Los_Angeles:20240914T123000
DTEND;TZID=America/Los_Angeles:20240914T160000
DTSTAMP:20260421T043342
CREATED:20240306T163424Z
LAST-MODIFIED:20240913T191741Z
UID:8050-1726317000-1726329600@acrisurearena.com
SUMMARY:Hot Wheels Monster Trucks Live Glow Party
DESCRIPTION:Hot Wheels Monster Trucks Live Glow Party returns to the Coachella Valley with three spectacular events on Saturday September 14 at 12:30 pm and 7:30 pm and Sunday\, September 15 at 2:30 pm. Fans of all ages will experience the thrill of watching their favorite Hot Wheels Monster Trucks in the DARK!  \nTIMES: \nSat\, 9/14 – Show 1\nVIP Doors – 9:30AM\nSmasher Doors – 10AM\nGA Doors – 11:30AM\nShow – 12:30-2:30PM \nTickets at Ticketmaster\, the official ticketing provider of Acrisure Arena. \n🎉 Special Event Alert!\nHead to Acrisure Arena on Friday\, September 13 from 3-6pm for an exclusive chance to see the all-new Skelesaurus up close and personal and special ticket offers! \nTicket Offers (no convenience fees when purchased at the box office):\n \n\nKids: Only $10 each!\nAdults: 2 for 1 tickets!\n\nGet your tickets at the box office Friday\, September 13 and don’t miss out on this roaring good time! \nFREE COLORING PAGES: Unlock downloadable fun HERE. \nNEW! Upgrade your ticket for $27.50 when you add-on our new VIP PREMIUM space\, The Compound. Hot Wheels Monster Trucks will feature the Flight Pass. \nThe Compound offers fans access to: \n\na stunning outdoor space with sunset mountain views\nprivate shopping experience for HWMTL merchandise\ndedicated full bar for purchase\ndelicious buffet for purchase\ncovered seating with cozy couches\n9-hole mini-golf\nhalf-court basketball\npickleball\ncorn hole\nbocce ball\n\nSpace is limited and will sell out. Upgrade at Ticketmaster. \nHot Wheels Power Smashers™ Pre-Show: The unique experience provides fans access to the competition floor where they can see the outrageous designs and epic size of the Hot Wheels Monster Trucks along with autograph signings from their favorite drivers and performers. This experience includes an autograph card\, glow stick\, souvenir pass\, and a lanyard exclusive to Hot Wheels Power Smashers™ Pre-show attendees.  \n Show times are as follows:  \n\nSaturday\, September 14\, 12:30pm/ Power Smashers™ Pre-Show\, 10am-11:15am\nSaturday\, September 14\, 7:30pm/ Power Smashers™ Pre-Show\, 5pm-6:15pm\nSunday\, September 15\, 2:30pm/ Power Smashers™ Pre-Show\, 12pm-1:15pm\n\nNew Pre-Show VIP Backstage Experience is an exclusive tour guided by the hosts of Hot Wheels Monster Trucks Live! Experience what happens behind the scenes before all the smashing and crashing goes down. See the Hot Wheels Monster Trucks up close and personal\, get your VIP merch bundle and receive early access into the Hot Wheels Power Smashers™ Pre-show! VIP passes are limited and available to purchase while supplies last. Visit www.hotwheelsmonstertruckslive.com for more information. \nELEVATE YOUR CONCERT EXPERIENCE! Purchasing tickets in the 201-206 and 227-223 sections on the premium Silvercrest Level include upscale amenities including cushioned seats\, upscale food and beverage options\, premium bathrooms and superior service. \n Tickets in the 200 sections are available at Ticketmaster.
URL:https://acrisurearena.com/event/hot-wheels-monster-trucks-live-glow-party-7/
LOCATION:Acrisure Arena\, 75702 Varner Rd\, Palm Desert\, CA\, 92211\, United States
CATEGORIES:Family Shows,Stand Together Series
ATTACH;FMTTYPE=image/png:https://acrisurearena.com/wp-content/uploads/2024/09/Acrisure-Arena_hwmtl-1.png
END:VEVENT
BEGIN:VEVENT
DTSTART;TZID=America/Los_Angeles:20240914T193000
DTEND;TZID=America/Los_Angeles:20240914T220000
DTSTAMP:20260421T043342
CREATED:20240306T163356Z
LAST-MODIFIED:20240913T191728Z
UID:8051-1726342200-1726351200@acrisurearena.com
SUMMARY:Hot Wheels Monster Trucks Live Glow Party
DESCRIPTION:Hot Wheels Monster Trucks Live Glow Party returns to the Coachella Valley with three spectacular events on Saturday September 14 at 12:30 pm and 7:30 pm and Sunday\, September 15 at 2:30 pm. Fans of all ages will experience the thrill of watching their favorite Hot Wheels Monster Trucks in the DARK!  \nTIMES: \nSat\, 9/14 – Show 2\nVIP Doors – 4:30PM\nSmasher Doors – 5PM\nGA Doors – 6:30PM\nShow – 7:30-9:30PM \nTickets at Ticketmaster\, the official ticketing provider of Acrisure Arena. \n🎉 Special Event Alert!\nHead to Acrisure Arena on Friday\, September 13 from 3-6pm for an exclusive chance to see the all-new Skelesaurus up close and personal and special ticket offers! \nTicket Offers (no convenience fees when purchased at the box office):\n \n\nKids: Only $10 each!\nAdults: 2 for 1 tickets!\n\nGet your tickets at the box office Friday\, September 13 and don’t miss out on this roaring good time! \nFREE COLORING PAGES: Unlock downloadable fun HERE. \nNEW! Upgrade your ticket for $27.50 when you add-on our new VIP PREMIUM space\, The Compound. Hot Wheels Monster Trucks will feature the Flight Pass. \nThe Compound offers fans access to: \n\na stunning outdoor space with sunset mountain views\nprivate shopping experience for HWMTL merchandise\ndedicated full bar for purchase\ndelicious buffet for purchase\ncovered seating with cozy couches\n9-hole mini-golf\nhalf-court basketball\npickleball\ncorn hole\nbocce ball\n\nSpace is limited and will sell out. Upgrade at Ticketmaster. \nHot Wheels Power Smashers™ Pre-Show: The unique experience provides fans access to the competition floor where they can see the outrageous designs and epic size of the Hot Wheels Monster Trucks along with autograph signings from their favorite drivers and performers. This experience includes an autograph card\, glow stick\, souvenir pass\, and a lanyard exclusive to Hot Wheels Power Smashers™ Pre-show attendees.  \n Show times are as follows:  \n\n\n\nSaturday\, September 14\, 12:30pm/ Power Smashers™ Pre-Show\, 10am-11:15am\nSaturday\, September 14\, 7:30pm/ Power Smashers™ Pre-Show\, 5pm-6:15pm\nSunday\, September 15\, 2:30pm/ Power Smashers™ Pre-Show\, 12pm-1:15pm\n\n\n\nNew Pre-Show VIP Backstage Experience is an exclusive tour guided by the hosts of Hot Wheels Monster Trucks Live! Experience what happens behind the scenes before all the smashing and crashing goes down. See the Hot Wheels Monster Trucks up close and personal\, get your VIP merch bundle and receive early access into the Hot Wheels Power Smashers™ Pre-show! VIP passes are limited and available to purchase while supplies last. Visit www.hotwheelsmonstertruckslive.com for more information. \nELEVATE YOUR CONCERT EXPERIENCE! Purchasing tickets in the 201-206 and 227-223 sections on the premium Silvercrest Level include upscale amenities including cushioned seats\, upscale food and beverage options\, premium bathrooms and superior service. \n Tickets in the 200 sections are available at Ticketmaster.
URL:https://acrisurearena.com/event/hot-wheels-monster-trucks-live-glow-party-6/
LOCATION:Acrisure Arena\, 75702 Varner Rd\, Palm Desert\, CA\, 92211\, United States
CATEGORIES:Family Shows,Stand Together Series
ATTACH;FMTTYPE=image/png:https://acrisurearena.com/wp-content/uploads/2024/09/Acrisure-Arena_hwmtl-1.png
END:VEVENT
BEGIN:VEVENT
DTSTART;TZID=America/Los_Angeles:20240915T143000
DTEND;TZID=America/Los_Angeles:20240915T170000
DTSTAMP:20260421T043342
CREATED:20240306T163306Z
LAST-MODIFIED:20240915T042008Z
UID:8053-1726410600-1726419600@acrisurearena.com
SUMMARY:Hot Wheels Monster Trucks Live Glow Party
DESCRIPTION:Hot Wheels Monster Trucks Live Glow Party returns to the Coachella Valley with three spectacular events on Saturday September 14 at 12:30 pm and 7:30 pm and Sunday\, September 15 at 2:30 pm. Fans of all ages will experience the thrill of watching their favorite Hot Wheels Monster Trucks in the DARK!  \nTIMES: \nSun\, 9/15 – Show 1\nVIP Doors – 11:30AM\nSmashers Doors – 12PM\nGA Doors – 1:30PM\nShow – 2:30-4:30PM \nTickets at Ticketmaster\, the official ticketing provider of Acrisure Arena. \nFREE COLORING PAGES: Unlock downloadable fun HERE. \nNEW! Upgrade your ticket for $27.50 when you add-on our new VIP PREMIUM space\, The Compound. Hot Wheels Monster Trucks will feature the Flight Pass. \nThe Compound offers fans access to: \n\na stunning outdoor space with sunset mountain views\nprivate shopping experience for HWMTL merchandise\ndedicated full bar for purchase\ndelicious buffet for purchase\ncovered seating with cozy couches\n9-hole mini-golf\nhalf-court basketball\npickleball\ncorn hole\nbocce ball\n\nSpace is limited and will sell out. Upgrade at Tickemaster. \nHot Wheels Power Smashers™ Pre-Show: The unique experience provides fans access to the competition floor where they can see the outrageous designs and epic size of the Hot Wheels Monster Trucks along with autograph signings from their favorite drivers and performers. This experience includes an autograph card\, glow stick\, souvenir pass\, and a lanyard exclusive to Hot Wheels Power Smashers™ Pre-show attendees.  \n Show times are as follows:  \n\nSaturday\, September 14\, 12:30pm/ Power Smashers™ Pre-Show\, 10am-11:15am\nSaturday\, September 14\, 7:30pm/ Power Smashers™ Pre-Show\, 5pm-6:15pm\nSunday\, September 15\, 2:30pm/ Power Smashers™ Pre-Show\, 12pm-1:15pm\n\nNew Pre-Show VIP Backstage Experience is an exclusive tour guided by the hosts of Hot Wheels Monster Trucks Live! Experience what happens behind the scenes before all the smashing and crashing goes down. See the Hot Wheels Monster Trucks up close and personal\, get your VIP merch bundle and receive early access into the Hot Wheels Power Smashers™ Pre-show! VIP passes are limited and available to purchase while supplies last. Visit www.hotwheelsmonstertruckslive.com for more information. \nELEVATE YOUR CONCERT EXPERIENCE! Purchasing tickets in the 201-206 and 227-223 sections on the premium Silvercrest Level include upscale amenities including cushioned seats\, upscale food and beverage options\, premium bathrooms and superior service. \n Tickets in the 200 sections are available at Ticketmaster.
URL:https://acrisurearena.com/event/hot-wheels-monster-trucks-live-glow-party-4/
LOCATION:Acrisure Arena\, 75702 Varner Rd\, Palm Desert\, CA\, 92211\, United States
CATEGORIES:Family Shows,Stand Together Series
ATTACH;FMTTYPE=image/png:https://acrisurearena.com/wp-content/uploads/2024/09/Acrisure-Arena_hwmtl-1.png
END:VEVENT
BEGIN:VEVENT
DTSTART;TZID=America/Los_Angeles:20240920T200000
DTEND;TZID=America/Los_Angeles:20240920T230000
DTSTAMP:20260421T043342
CREATED:20240223T145905Z
LAST-MODIFIED:20240920T210320Z
UID:8013-1726862400-1726873200@acrisurearena.com
SUMMARY:Chayanne
DESCRIPTION:Chayanne will perform at Acrisure Arena on Friday\, September 20\, 8pm. \nTickets at Ticketmaster.com\, the official ticketing provider of Acrisure Arena. \nTIMES:\nThe Patio: 6:30pm\nThe Compound: 7:00pm\nDoors: 7:00pm\nEvent: 8:00pm \nNEW! Upgrade your ticket for $55 when you add-on our VIP PREMIUM space\, The Compound. The Chayanne concert will feature the Par-Tee Pass.\nGet the party started here! Looking to enhance your experience before the concert? Upgrade any ticket for access to The Compound\, the newest VIP space at Acrisure Arena. The Compound offers fans access to: \n\na stunning outdoor space with sunset mountain views\n(1) complimentary beer\, wine or soft drink at our full service bar\ndelicious buffet for purchase\ncovered seating with cozy couches\n9-hole mini-golf\nhalf-court basketball\npickleball\ncorn hole\nbocce ball\n\nSpace is limited and will sell out. Upgrade pass available at Ticketmaster. \n \nChayanne was born in Puerto Rico but raised in the world stage. Performing before crowds of adoring fans\, acting on film and television at a very young age as part of the group Los Chicos\, transitioning to a solo artist came naturally to Chayanne. Today he is recognized throughout Iberia-America as an undisputed icon of Pop music. His success is solidified through more than 50 million albums sold\, sold-out tours\, starring and guest starring roles in film\, soap operas and television series\, numerous chart-topping hits and garnering hundreds of music industry awards. \nThe star has recorded 24 albums to date with his label Sony Music.  His songs have consistently topped radio charts with 28 on the Hot Latin Songs list\, the 4th most chart-topping artist in the list’s history.
URL:https://acrisurearena.com/event/chayanne/
LOCATION:Acrisure Arena\, 75702 Varner Rd\, Palm Desert\, CA\, 92211\, United States
CATEGORIES:Concerts,Stand Together Series
ATTACH;FMTTYPE=image/jpeg:https://acrisurearena.com/wp-content/uploads/2024/02/Chayanne_1920x1080_Website.jpg
END:VEVENT
BEGIN:VEVENT
DTSTART;TZID=America/Los_Angeles:20240929T200000
DTEND;TZID=America/Los_Angeles:20240929T230000
DTSTAMP:20260421T043342
CREATED:20240409T173048Z
LAST-MODIFIED:20240927T215936Z
UID:8254-1727640000-1727650800@acrisurearena.com
SUMMARY:Fuerza Regida
DESCRIPTION:Fuerza Regida returns to Acrisure Arena on Sunday\, September 29. \nTickets at Ticketmaster.com\, the official ticketing provider of Acrisure Arena. \nTIMES: \nThe Patio: 6:30pm\nThe Compound: 6:30pm\nDoors: 7:00pm\nEvent: 8:00pm \nNEW! Upgrade your ticket for $55 when you add-on our VIP PREMIUM space\, The Compound. The Fuerza Regida concert will feature the Par-Tee Pass.  \nGet the party started here! Looking to enhance your experience before the concert? Upgrade any ticket for access to The Compound\, the newest VIP space at Acrisure Arena. The Compound offers fans access to: \n\na stunning outdoor space with sunset mountain views\n(1) complimentary beer\, wine or soft drink at our full service bar\ndelicious buffet for purchase\ncovered seating with cozy couches\n9-hole mini-golf\nhalf-court basketball\npickleball\ncorn hole\nbocce ball\n\nSpace is limited and will sell out. Upgrade pass available at Ticketmaster. \nVIP:  Fans can also purchase VIP Packages\, which may include premium tickets\, access to the VIP after party with members of the band\, Soundcheck\, Meet & Greet + group photo with Fuerza Regida\, Pre-show VIP Lounge\, specially designed VIP gift item & more. VIP package contents vary based on offer selected. For more information\, visit vipnation.com. \n \nFronted by Jesús Ortiz Paz\, the San Bernardino-native group has taken Mexico by storm and made an impact on the American charts\, and now fans across the country will have a chance to see their powerhouse live performance on their “Pero No Te Enamores Tour\,” their next headlining trek hitting arenas this summer. \n 
URL:https://acrisurearena.com/event/fuerza-regida-2/
LOCATION:Acrisure Arena\, 75702 Varner Rd\, Palm Desert\, CA\, 92211\, United States
CATEGORIES:Concerts,Stand Together Series
ATTACH;FMTTYPE=image/png:https://acrisurearena.com/wp-content/uploads/2024/04/1920x1080_fuerza-.png
END:VEVENT
END:VCALENDAR