BEGIN:VCALENDAR
VERSION:2.0
PRODID:-//Acrisure Arena - ECPv6.15.18//NONSGML v1.0//EN
CALSCALE:GREGORIAN
METHOD:PUBLISH
X-WR-CALNAME:Acrisure Arena
X-ORIGINAL-URL:https://acrisurearena.com
X-WR-CALDESC:Events for Acrisure Arena
REFRESH-INTERVAL;VALUE=DURATION:PT1H
X-Robots-Tag:noindex
X-PUBLISHED-TTL:PT1H
BEGIN:VTIMEZONE
TZID:America/Los_Angeles
BEGIN:DAYLIGHT
TZOFFSETFROM:-0800
TZOFFSETTO:-0700
TZNAME:PDT
DTSTART:20230312T100000
END:DAYLIGHT
BEGIN:STANDARD
TZOFFSETFROM:-0700
TZOFFSETTO:-0800
TZNAME:PST
DTSTART:20231105T090000
END:STANDARD
BEGIN:DAYLIGHT
TZOFFSETFROM:-0800
TZOFFSETTO:-0700
TZNAME:PDT
DTSTART:20240310T100000
END:DAYLIGHT
BEGIN:STANDARD
TZOFFSETFROM:-0700
TZOFFSETTO:-0800
TZNAME:PST
DTSTART:20241103T090000
END:STANDARD
BEGIN:DAYLIGHT
TZOFFSETFROM:-0800
TZOFFSETTO:-0700
TZNAME:PDT
DTSTART:20250309T100000
END:DAYLIGHT
BEGIN:STANDARD
TZOFFSETFROM:-0700
TZOFFSETTO:-0800
TZNAME:PST
DTSTART:20251102T090000
END:STANDARD
END:VTIMEZONE
BEGIN:VEVENT
DTSTART;TZID=America/Los_Angeles:20240808T190000
DTEND;TZID=America/Los_Angeles:20240808T230000
DTSTAMP:20260421T062710
CREATED:20231109T140025Z
LAST-MODIFIED:20240806T224806Z
UID:7401-1723143600-1723158000@acrisurearena.com
SUMMARY:Alanis Morissette
DESCRIPTION:Alanis Morissette with special guests Joan Jett and the Blackhearts and Morgan Wade will perform at Acrisure Arena on August 8\, 2024. \nTickets at Ticketmaster\, the official ticketing provider of Acrisure Arena. \nThe Patio: 5:30pm\nDoors/The Compound: 6:00pm\nShow: 7:00pm \nNEW! Upgrade your ticket for $165 when you add-on our VIP PREMIUM space\, The Compound. The Alanis Morissette concert will feature the Golden Hour Pass.\nGet the party started here! Looking to enhance your experience before the concert? Upgrade any ticket for access to The Compound\, the newest VIP space at Acrisure Arena.  The Compound offers fans access to: \n\na stunning outdoor space with sunset mountain views\ncomplimentary beer and wine bar (spirits additional) and a generous buffet\nexclusive merchandise options\ncovered seating\nfirepits\n9-hole mini-golf\nhalf-court basketball\npickleball\ncorn hole\nbocce ball\n\nSpace is limited and will sell out. Upgrade pass available at Ticketmaster. \nELEVATE YOUR CONCERT EXPERIENCE! Purchasing tickets in the 201-206 and 227-223 sections on the premium Silvercrest Level include upscale amenities including cushioned seats\, upscale food and beverage options\, premium bathrooms\, all often with shorter lines than the Main Concourse level. Tickets in the 200 sections are available at Ticketmaster.com.
URL:https://acrisurearena.com/event/alanis-morissette/
LOCATION:Acrisure Arena\, 75702 Varner Rd\, Palm Desert\, CA\, 92211\, United States
CATEGORIES:Concerts,Stand Together Series
ATTACH;FMTTYPE=image/png:https://acrisurearena.com/wp-content/uploads/2023/11/1920x1080_Alanis-Morissette.png
END:VEVENT
BEGIN:VEVENT
DTSTART;TZID=America/Los_Angeles:20240809T200000
DTEND;TZID=America/Los_Angeles:20240809T230000
DTSTAMP:20260421T062710
CREATED:20230828T135937Z
LAST-MODIFIED:20240807T175655Z
UID:6978-1723233600-1723244400@acrisurearena.com
SUMMARY:Los Temerarios
DESCRIPTION:Los Temerarios will perform at Acrisure Arena on August 9\, 2024. \nThe Patio/The Compound: 6:30pm\nDoors: 7:00pm\nShow: 8:00pm \nA message from Los Temerarios\, Adolfo Ángel Alba y Gustavo Ángel Alba: \nWith the love that has united us since we were children\, the same feeling for the work we have had the privilege to do for more than 46 years\, we want to share the newsthat we have made the difficult decision to separate musically\, thus closing one of the most important and rewarding cycles of our lives. \nAs a thank you to our fans\, we will complete our last tour together\, and we will do it with the same love and respect with which we have always done it. \nWith the goal of thanking our public for all their love that we will be eternal recipients of\, the dates already scheduled for September and November 2023 will be kept and then we will add new concerts in Mexico\, the United States and some Central and South American countries during 2024. \nWe are eternally grateful to the public that has so generously welcomed our music into their hearts and who have been the engine and inspiration of our career. To the media\, who have supported us with respect and integrity during all these years. To the promoters and collaborators who are part of this project\, whose mission is to expand our music made in honor of love\, grace and the mystery that unites us and gives meaning to life. \nEverything that we express from this moment on will be through our music on the stages of our next concerts where we will provide the best of ourselves. \nWith deep gratitude\,\nAdolfo Ángel Alba y Gustavo Ángel Alba\nLos Temerarios \nNEW! Upgrade your ticket for $55 when you add-on our VIP PREMIUM space\, The Compound. The Los Temerarios concert will feature the Par-Tee Pass. Get the party started here! Looking to enhance your experience before the concert? Upgrade any ticket for access to The Compound\, the newest VIP space at Acrisure Arena. \nThe Compound offers fans access to: \n\na stunning outdoor space with sunset mountain views\n(1) complimentary beer\, wine or soft drink at our full service bar\ndelicious buffet for purchase\ncovered seating with cozy couches\n9-hole mini-golf\nhalf-court basketball\npickleball\ncorn hole\nbocce ball\n\nSpace is limited and will sell out. Upgrade pass available at Ticketmaster. \nELEVATE YOUR CONCERT EXPERIENCE! Purchasing tickets in the 201-206 and 227-223 sections on the premium Silvercrest Level include upscale amenities including cushioned seats\, upscale food and beverage options\, premium bathrooms\, all often with shorter lines than the Main Concourse level. Tickets in the 200 sections are available at Ticketmaster.com
URL:https://acrisurearena.com/event/los-temerarios/
LOCATION:Acrisure Arena\, 75702 Varner Rd\, Palm Desert\, CA\, 92211\, United States
CATEGORIES:Concerts,Stand Together Series
ATTACH;FMTTYPE=image/jpeg:https://acrisurearena.com/wp-content/uploads/2023/08/230809_Temerarios_1920x1080.jpeg
END:VEVENT
BEGIN:VEVENT
DTSTART;TZID=America/Los_Angeles:20240810T200000
DTEND;TZID=America/Los_Angeles:20240810T235900
DTSTAMP:20260421T062710
CREATED:20240401T165926Z
LAST-MODIFIED:20240807T175752Z
UID:8216-1723320000-1723334340@acrisurearena.com
SUMMARY:Grupo Marca Registrada
DESCRIPTION:Grupo Marca Registrada\, the Norteño group that hails from Sinaloa\, is set to perform for the first time at Acrisure Arena on Saturday\, August 10 at 8pm. Tickets at Ticketmaster.com \nTickets start at just $45 with no convenience fees when purchased at the Acrisure Arena Box Office – Open August 8\, 9\, and 10. \nThe Patio/The Compound: 6:30pm\nDoors: 7:00pm\nShow: 8:00pm \nMarca Registrada began its career in 2014\, and currently has more than 9.8 million monthly listeners on Spotify as well as three entries on Billboard’s Hot Latin Songs chart in 2022. Last year\, they switched things up and embarked upon collaborations with younger emerging talent who specialize in a different sound. The subsequent collaborations have helped to diversify their sound and engage a broader audience. On March 1\, they premiered an updated version of Julieta Venegas’ 2003 Latin pop hit\, “Andar Conmigo\,” and have upcoming collaborations with Belinda\, Peso Pluma and Junior H. \nNEW! Upgrade your ticket for $55 when you add-on our VIP PREMIUM space\, The Compound. The Grupo Marca Registrada concert will feature the Par-Tee Pass.\nGet the party started here! The Compound offers fans access to: \n\na stunning outdoor space with sunset mountain views\n(1) complimentary beer\, wine or soft drink at our full service bar\ndelicious buffet available for purchase\ncovered seating with cozy couches\n9-hole mini-golf\nhalf-court basketball\npickleball\ncorn hole\nbocce ball
URL:https://acrisurearena.com/event/grupo-marca-registrada/
LOCATION:Acrisure Arena\, 75702 Varner Rd\, Palm Desert\, CA\, 92211\, United States
CATEGORIES:Concerts,Stand Together Series
ATTACH;FMTTYPE=image/jpeg:https://acrisurearena.com/wp-content/uploads/2024/04/240810_Marca-Registrada_Photo_1920x1080.jpg
END:VEVENT
BEGIN:VEVENT
DTSTART;TZID=America/Los_Angeles:20240823T200000
DTEND;TZID=America/Los_Angeles:20240823T230000
DTSTAMP:20260421T062710
CREATED:20240222T165914Z
LAST-MODIFIED:20240819T225613Z
UID:8001-1724443200-1724454000@acrisurearena.com
SUMMARY:Kings of Leon
DESCRIPTION:Kings of Leon performs at Acrisure Arena on Friday\, August 23. \nTickets at Ticketmaster.com\, the official ticketing provider of Acrisure Arena. \nThe Patio: 6:30pm\nThe Compound: 6:30pm\nDoors: 7:00pm\nEvent: 8:00pm \nGRAMMY award-winning\, multi-platinum rock band Kings of Leon are kicking off 2024 with a string of major announcements. The band has announced their upcoming 9th full-length studio album\, Can We Please Have Fun. The hard-charging lead single\, “Mustang” is available now\, accompanied by a high-flying music video that sets the pace for the album. \nNEW! Upgrade your ticket for $55 when you add-on our VIP PREMIUM space\, The Compound. The Kings of Leon concert will feature the Par-Tee Pass.\nGet the party started here! Looking to enhance your experience before the concert? Upgrade any ticket for access to The Compound\, the newest VIP space at Acrisure Arena. The Compound offers fans access to: \n\na stunning outdoor space with sunset mountain views\n(1) complimentary beer\, wine or soft drink at our full service bar\ndelicious buffet available for purchase\ncovered seating with cozy couches\n9-hole mini-golf\nhalf-court basketball\npickleball\ncorn hole\nbocce ball\n\nThe Compound Buffet Menu ($19.95): Dive into our summer-inspired buffet\, offering gourmet delights like the Bee Sting Pizza topped with Pepperoni\, Fresno Peppers\, and Fuego Hot Honey. For vegetarian options\, enjoy our Summer Vegetable Pizza\, Chef’s Pasta Salad\, and Chef’s Pasta Bake. These exclusive dishes are available for purchase only at The Compound. \nSpace is limited and will sell out. Upgrade pass available at Ticketmaster.
URL:https://acrisurearena.com/event/kings-of-leon/
LOCATION:Acrisure Arena\, 75702 Varner Rd\, Palm Desert\, CA\, 92211\, United States
CATEGORIES:Concerts,Stand Together Series
ATTACH;FMTTYPE=image/png:https://acrisurearena.com/wp-content/uploads/2024/02/Acrisure-Arena_kol.png
END:VEVENT
BEGIN:VEVENT
DTSTART;TZID=America/Los_Angeles:20240824T200000
DTEND;TZID=America/Los_Angeles:20240824T230000
DTSTAMP:20260421T062710
CREATED:20240318T140019Z
LAST-MODIFIED:20240820T182829Z
UID:8100-1724529600-1724540400@acrisurearena.com
SUMMARY:Jeff Lynne's ELO
DESCRIPTION:Jeff Lynne’s ELO performs at Acrisure Arena on Saturday\, August 24. \nTickets at Ticketmaster.com\, the official ticketing provider of Acrisure Arena. \nThe Patio: 6:30pm\nThe Compound: 7:00pm\nDoors: 7:00pm\nEvent: 8:00pm \nKnown as one of the most iconic forces in music history\, in recent years Jeff Lynne’s ELO has delivered a critically acclaimed and chart-topping album along with a sold out run of UK and European shows. Jeff Lynne was inducted into the Songwriters Hall of Fame last year and the band was inducted into the Rock and Roll Hall of Fame in 2017. The band has always been known for their epic live shows and with a distinct style that seamlessly and innovatively blends rock\, pop and classical\, ELO has had more than 20 Top 40 Hits across the U.S. and the U.K.\, making Lynne’s sweeping productions some of the most recognizable music of the last forty years and helping sell over 50 million records worldwide. \nNEW! Upgrade your ticket for $165 when you add-on our VIP PREMIUM space\, The Compound. Jeff Lynne’s ELO will feature the Golden Hour Pass. Looking to enhance your experience before the concert? Upgrade any ticket for access to The Compound\, the newest VIP space at Acrisure Arena. \nThe Compound offers fans access to: \n\na stunning outdoor space with sunset mountain views\ncomplimentary beer and wine bar (spirits additional) and a generous buffet\nexclusive merchandise options\ncovered seating\n9-hole mini-golf\nhalf-court basketball\npickleball\ncorn hole\nbocce ball\n\nThe Compound Buffet Menu: Enjoy this complimentary themed buffet with exclusive options such as “Midnight Blue” Berry Salad (GF)(V)\, “Telephone Line” Shrimp Skewers (GF)(V)\, “Strange Magic” Mushrooms (GF)(V)\, “Turn to Stone” BBQ Chicken Lollipops (GF)\, “Mr. Blue Sky” Sliders\, and “Big Wheels” Ravioli. These unique dishes are available only at The Compound. \nSpace is limited and will sell out. Upgrade options are available at Ticketmaster.
URL:https://acrisurearena.com/event/jeff-lynnes-elo/
LOCATION:Acrisure Arena\, 75702 Varner Rd\, Palm Desert\, CA\, 92211\, United States
CATEGORIES:Concerts,Stand Together Series
ATTACH;FMTTYPE=image/png:https://acrisurearena.com/wp-content/uploads/2024/07/Acrisure-Arena_jeff-lynne-elo.png
END:VEVENT
END:VCALENDAR