BEGIN:VCALENDAR
VERSION:2.0
PRODID:-//Acrisure Arena - ECPv6.15.18//NONSGML v1.0//EN
CALSCALE:GREGORIAN
METHOD:PUBLISH
X-ORIGINAL-URL:https://acrisurearena.com
X-WR-CALDESC:Events for Acrisure Arena
REFRESH-INTERVAL;VALUE=DURATION:PT1H
X-Robots-Tag:noindex
X-PUBLISHED-TTL:PT1H
BEGIN:VTIMEZONE
TZID:America/Los_Angeles
BEGIN:DAYLIGHT
TZOFFSETFROM:-0800
TZOFFSETTO:-0700
TZNAME:PDT
DTSTART:20230312T100000
END:DAYLIGHT
BEGIN:STANDARD
TZOFFSETFROM:-0700
TZOFFSETTO:-0800
TZNAME:PST
DTSTART:20231105T090000
END:STANDARD
BEGIN:DAYLIGHT
TZOFFSETFROM:-0800
TZOFFSETTO:-0700
TZNAME:PDT
DTSTART:20240310T100000
END:DAYLIGHT
BEGIN:STANDARD
TZOFFSETFROM:-0700
TZOFFSETTO:-0800
TZNAME:PST
DTSTART:20241103T090000
END:STANDARD
BEGIN:DAYLIGHT
TZOFFSETFROM:-0800
TZOFFSETTO:-0700
TZNAME:PDT
DTSTART:20250309T100000
END:DAYLIGHT
BEGIN:STANDARD
TZOFFSETFROM:-0700
TZOFFSETTO:-0800
TZNAME:PST
DTSTART:20251102T090000
END:STANDARD
END:VTIMEZONE
BEGIN:VEVENT
DTSTART;TZID=America/Los_Angeles:20240706T190000
DTEND;TZID=America/Los_Angeles:20240706T235900
DTSTAMP:20260421T081215
CREATED:20231030T130031Z
LAST-MODIFIED:20240702T171451Z
UID:7363-1720292400-1720310340@acrisurearena.com
SUMMARY:New Kids On The Block
DESCRIPTION:Multi-platinum pop icons New Kids On The Block will bring all of the magic back for fans at Acrisure Arena on Saturday\, July 6\, 2024.  \nTIMES:\nThe Patio: 5:30pm\nDoors & The Compound: 6:00pm\nShow: 7:00pm \nReimagining the smash 1990 tour of the same name\, Donnie\, Joey\, Jordan\, Jonathan & Danny are bringing back the magic for fans old and new\, this time with very special guests Paula Abdul and DJ Jazzy Jeff.  \nSHOW NKOTB YOUR NEON!\nNew Kids On The Block have promised to be performing their greatest hits\, unexpected fan favorites and magical surprises for their diehard fans. The 2024 Magic Summer Tour is where the magic happens! “Blockhead” fans are encouraged to rock their best neon outfits and relive a summer of fun and nostalgia.  \n$89.00* MAGIC 4 PACK\nGet four Magic Summer Tour tickets for just $89.00\, plus fees. Buy HERE \nNEW! Upgrade your ticket for $165 when you add-on our VIP PREMIUM space\, The Compound. The New Kids On The Block concert will feature the Golden Hour Pass. Get the party started here! Looking to enhance your experience before the concert? Upgrade any ticket for access to The Compound\, the newest VIP space at Acrisure Arena. \nThe Compound offers fans access to: \n\na stunning outdoor space with sunset mountain views\ncomplimentary beer and wine bar (spirits additional) and a generous buffet\nexclusive merchandise options\ncovered seating\nfirepits\n9-hole mini-golf\nhalf-court basketball\npickleball\ncorn hole\nbocce ball\n\nSpace is limited and will sell out. Upgrade pass available at Ticketmaster. \nELEVATE YOUR CONCERT EXPERIENCE! Purchasing tickets in the 201-206 and 227-223 sections on the premium Silvercrest Level include upscale amenities including cushioned seats\, upscale food and beverage options\, premium bathrooms\, all often with shorter lines than the Main Concourse level. Tickets in the 200 sections are available at Ticketmaster. \nNew Kids on the Block (also initialized as NKOTB) is an American boy band  consisting of brothers Jonathan and Jordan Knight\, Joey McIntyre\, Donnie Wahlberg\, and Danny Wood. New Kids on the Block enjoyed success in the late 1980s and early 1990s and have sold more than 80 million records worldwide\, and are often credited for paving the way for future boy bands such as Take That\, Backstreet Boys and NSYNC.
URL:https://acrisurearena.com/event/new-kids-on-the-block/
LOCATION:Acrisure Arena\, 75702 Varner Rd\, Palm Desert\, CA\, 92211\, United States
CATEGORIES:Concerts,Stand Together Series
ATTACH;FMTTYPE=image/jpeg:https://acrisurearena.com/wp-content/uploads/2023/10/240706_NKOTB_in-concert_1920x1080.jpg
END:VEVENT
BEGIN:VEVENT
DTSTART;TZID=America/Los_Angeles:20240713T200000
DTEND;TZID=America/Los_Angeles:20240713T233000
DTSTAMP:20260421T081215
CREATED:20240507T170020Z
LAST-MODIFIED:20240710T230212Z
UID:8385-1720900800-1720913400@acrisurearena.com
SUMMARY:Junior H
DESCRIPTION:TIMES:\nThe Compound/The Patio: 6:30pm\nDoors: 7:00pm\n*subject to change \nJunior H\, one of the most successful artists in the urban Mexican music genre\, kicks off his $ad Boyz Mania Tour at Acrisure Arena on Saturday\, July 13\, 2024. \nTickets at Ticketmaster \nNEW! Upgrade your ticket for $55 when you add-on our VIP PREMIUM space\, The Compound. The Junior H concert will feature the Par-Tee Pass.\nGet the party started here! Looking to enhance your experience before the concert? Upgrade any ticket for access to The Compound\, the newest VIP space at Acrisure Arena.  The Compound offers fans access to: \n\na stunning outdoor space with sunset mountain views\n(1) complimentary beer and wine at our full service bar\ndelicious buffet for purchase\ncovered seating with cozy couches\nfire pits\n9-hole mini-golf\nhalf-court basketball\npickleball\ncorn hole\nbocce ball\n\nSpace is limited and will sell out. Upgrade pass available at Ticketmaster. \nFans can expect Junior H to perform hits from his latest album titled $AD BOYZ 4 LIFE II\, which already has 1.4 BILLION streams on platforms just five months after its release. \nIn the past year\, Junior H’s career has seen an impressive surge. On Spotify alone\, he holds 26 million monthly listeners and over 3.3 BILLION streams of his top 10 most listened-to songs. These figures have earned him multiple gold and platinum certifications\, highlighting the dedicated work of the artist  who is steadily establishing himself as one of the most influential artists of Latin music. \nOn April 25th\, Junior H & Rel B released the single titled “Un Desperdicio”. In its first week\, this single has over 16 million streams on Spotify and YouTube\, reaching top spots on the main playlists of various digital platforms. Soon\, he will be releasing new music\, which will also be part of his repertoire on this new tour across the United States.
URL:https://acrisurearena.com/event/junior-h/
LOCATION:Acrisure Arena\, 75702 Varner Rd\, Palm Desert\, CA\, 92211\, United States
CATEGORIES:Concerts,Stand Together Series
ATTACH;FMTTYPE=image/jpeg:https://acrisurearena.com/wp-content/uploads/2024/05/Static_Digital-Ticketmaster_1920x1080_JuniorH_2024_Regional_AcrisureArena_0713.jpg
END:VEVENT
BEGIN:VEVENT
DTSTART;TZID=America/Los_Angeles:20240727T190000
DTEND;TZID=America/Los_Angeles:20240727T223000
DTSTAMP:20260421T081215
CREATED:20240621T030035Z
LAST-MODIFIED:20240726T173537Z
UID:8730-1722106800-1722119400@acrisurearena.com
SUMMARY:Abi Carter
DESCRIPTION:Abi Carter\, the newly crowned winner of Season 22 of American Idol\, will bring an unforgettable live concert to the Coachella Valley on Saturday\, July 27. Abi Carter’s No Amount of Dark is Presented By City of Indio. \n“Peppermint Sky” Out Now! Listen – HERE. \nDoors: 6:00pm\nShow: 7:00pm \nSPECIAL OFFER: Get 4 Tickets For $80 All-In\nOffer available while supplies last. \nTickets at Ticketmaster.com\, the official ticketing provider of Acrisure Arena.  \nFans can also purchase VIP Packages\, which may include premium tickets\, Meet & Greet\, exclusive tour poster & more. The “No Amount of Dark VIP Package” includes: \n\nReserved ticket within the first 10 rows\nPost-show Meet & Greet with Abi Carter\nAutographed and numbered Limited Edition poster signed by Abi Carter\nCommemorative VIP laminate\n\nThe young Indio\, California native captivated audiences during her audition by performing a rendition of the Billie Eilish song “What Was I Made For?” from the ‘Barbie’ movie that set social media ablaze. Abi Carter then went on to create viral moments performing classics from widely varied artists such as Adele and Evanescence putting her broad musical range on full display en route to her much-ballyhooed victory. Her first headlining concert at Acrisure Arena is poised to be an evening of exceptional entertainment and powerful performances. \nIf she’s not on your playlists already\, be prepared to be obsessed with Laur Elle — as a singer-songwriter who has always been enamored by the power of words\, the indie pop artist is a true\, multi-talented self-starter through and through. In the wake of her debut album\, Delayed Reaction\, a sonic road trip “born out of a state of chaos\,” she reflects on the project\, describing it as “a combination of heartaches\, reflections\, and making mistakes.” \nNEW! Upgrade your ticket for $27.50 when you add-on our new VIP PREMIUM space\, The Compound. The Abi Carter concert will feature the Flight Pass. The Compound offers fans access to: \n\nA stunning outdoor space with sunset mountain views\nDedicated full bar for purchase\nDelicious buffet for purchase\nCovered seating with cozy couches\n9-hole mini-golf\nHalf-court basketball\nPickleball\nCorn Hole\nBocce Ball\n\nSpace is limited and will sell out. Upgrade at Ticketmaster.com
URL:https://acrisurearena.com/event/abi-carter/
LOCATION:Acrisure Arena\, 75702 Varner Rd\, Palm Desert\, CA\, 92211\, United States
CATEGORIES:Concerts,Stand Together Series
ATTACH;FMTTYPE=image/jpeg:https://acrisurearena.com/wp-content/uploads/2024/06/240727_Abi-Carter_Web_1920x1080-1.jpg
END:VEVENT
END:VCALENDAR