BEGIN:VCALENDAR
VERSION:2.0
PRODID:-//Acrisure Arena - ECPv6.15.18//NONSGML v1.0//EN
CALSCALE:GREGORIAN
METHOD:PUBLISH
X-WR-CALNAME:Acrisure Arena
X-ORIGINAL-URL:https://acrisurearena.com
X-WR-CALDESC:Events for Acrisure Arena
REFRESH-INTERVAL;VALUE=DURATION:PT1H
X-Robots-Tag:noindex
X-PUBLISHED-TTL:PT1H
BEGIN:VTIMEZONE
TZID:America/Los_Angeles
BEGIN:DAYLIGHT
TZOFFSETFROM:-0800
TZOFFSETTO:-0700
TZNAME:PDT
DTSTART:20230312T100000
END:DAYLIGHT
BEGIN:STANDARD
TZOFFSETFROM:-0700
TZOFFSETTO:-0800
TZNAME:PST
DTSTART:20231105T090000
END:STANDARD
BEGIN:DAYLIGHT
TZOFFSETFROM:-0800
TZOFFSETTO:-0700
TZNAME:PDT
DTSTART:20240310T100000
END:DAYLIGHT
BEGIN:STANDARD
TZOFFSETFROM:-0700
TZOFFSETTO:-0800
TZNAME:PST
DTSTART:20241103T090000
END:STANDARD
BEGIN:DAYLIGHT
TZOFFSETFROM:-0800
TZOFFSETTO:-0700
TZNAME:PDT
DTSTART:20250309T100000
END:DAYLIGHT
BEGIN:STANDARD
TZOFFSETFROM:-0700
TZOFFSETTO:-0800
TZNAME:PST
DTSTART:20251102T090000
END:STANDARD
END:VTIMEZONE
BEGIN:VEVENT
DTSTART;TZID=America/Los_Angeles:20240201T190000
DTEND;TZID=America/Los_Angeles:20240201T210000
DTSTAMP:20260421T205617
CREATED:20230906T211102Z
LAST-MODIFIED:20240201T001418Z
UID:7086-1706814000-1706821200@acrisurearena.com
SUMMARY:Firebirds vs. Wranglers
DESCRIPTION:TICKET INFORMATION – new date\, previously scheduled for February 2\, 2024 \nSingle-game tickets for the 2023-2024 season are on sale at Ticketmaster.com \nSEASON TICKETS \nFull Season and Half Season Ticket packages are on sale now. \nGROUP TICKETS \nBring a group of 10 or more people and enjoy ticket discounts and access to memorable benefits only available to group outings. Book your next event at a Firebirds game HERE. \nNEW! Upgrade your ticket for $27.50 when you add-on our new PREMIUM space\, The Compound. \nWe invite you to experience a unique backyard playground just steps away from the action on the ice. The Compound includes cozy fire pits with couches for lounging\, a 9-hole mini golf\, bocce ball\, half-court basketball and pickle ball court\, and so much more! The Compound includes a dedicated full-service bar and custom menu for purchase. Learn More HERE and then purchase HERE.  \n\nThis exclusive VIP space will be open 90-minutes prior to puck drops and throughout the game until the beginning of the third period. Fun for the entire family!\n\nAccess to The Compound is weather permitting. For your safety\, Acrisure Arena may be required to close The Compound. In this occurrence\, you will be notified at least 3.5 hours prior to puck drop. You will receive an automatic refund.
URL:https://acrisurearena.com/event/firebirds-vs-wranglers-4/
LOCATION:Acrisure Arena\, 75702 Varner Rd\, Palm Desert\, CA\, 92211\, United States
CATEGORIES:Firebirds,Sports
ATTACH;FMTTYPE=image/png:https://acrisurearena.com/wp-content/uploads/2023/08/CALGARY-FLAMES-vs-CVF.png
END:VEVENT
BEGIN:VEVENT
DTSTART;TZID=America/Los_Angeles:20240202T190000
DTEND;TZID=America/Los_Angeles:20240202T233000
DTSTAMP:20260421T205617
CREATED:20231114T170024Z
LAST-MODIFIED:20240201T002519Z
UID:7418-1706900400-1706916600@acrisurearena.com
SUMMARY:Enrique Iglesias\, Pitbull & Ricky Martin
DESCRIPTION:International superstars Enrique Iglesias\, Pitbull\, and Ricky Martin join forces for the Trilogy Tour on Friday\, February 2. \nThis is a three-way headlining Tour with a different running order each night. We do not know who is on first or last. Make sure you are on-time so you don’t miss your favorite! \nNEW! Upgrade your ticket for only $165 when you add-on our new PREMIUM space\, The Compound: We invite you to experience a unique backyard playground just steps away from the action on stage. The Compound is a dedicated outdoor space with a hosted full-service bar (spirits for purchase) and custom menu. The Compound includes cozy fire pits with couches for lounging\, 9-hole mini golf\, bocce ball\, half-court basketball and pickle ball court\, and so much more!  This is the newest private hang in greater Palm Springs! Learn More HERE and then purchase HERE. \nELEVATE YOUR CONCERT EXPERIENCE! Purchasing tickets in the 201-206 and 227-223 sections on the premium Silvercrest Level include upscale amenities including cushioned seats\, upscale food and beverage options\, premium bathrooms\, all often with shorter lines than the Main Concourse level. Tickets in the 200 sections are available at Ticketmaster.com. \nAs they continue to sell out shows across North America\, the three multigenerational global powerhouses Enrique Iglesias\, Ricky Martin\, and Pitbull are extending their one-of-a-kind arena party – The Trilogy Tour – into 2024 with an unforgettable night of music as the megastars deliver an electrifying mix of their biggest career-spanning hits with influences of reggaeton\, salsa pop\, dance\, and electronic music\, backed by world-class production and state-of-the-art visuals. \nThe Trilogy Tour leg 1 garnered incredible reviews of the performances with USA TODAY noting at the tour kickoff\, “As trilogies go\, the combination of Ricky Martin\, Enrique Iglesias and Pitbull is a robust one. The three Latin pop stars came equipped with their individual charisma and a heap of hits during a four-hour night.” The Oakland Press remarked the trio “reminded an arena full of screaming\, enthralled fans just how potent they are with a buoyant\, bilingual celebration across three explosive performances.” \nIn Detroit\, MLive declared “The “Motor City” was one big fiesta with a trio of Spanish and Latin superstars.” Boston.com celebrated their performance stating “the three luminaries of Latin pop embarked on a night of celebration sparked by their individual charisma and plethora of chart-topping hits. In the realm of trilogies\, this one proved fruitful in atmosphere and execution\, avoiding any repetition in the four-hour extravaganza.”
URL:https://acrisurearena.com/event/enrique-iglesias-pitbull-ricky-martin/
LOCATION:Acrisure Arena\, 75702 Varner Rd\, Palm Desert\, CA\, 92211\, United States
CATEGORIES:Concerts,Stand Together Series
ATTACH;FMTTYPE=image/png:https://acrisurearena.com/wp-content/uploads/2023/11/1920x1080_trilogy-1.png
END:VEVENT
BEGIN:VEVENT
DTSTART;TZID=America/Los_Angeles:20240203T180000
DTEND;TZID=America/Los_Angeles:20240203T200000
DTSTAMP:20260421T205617
CREATED:20230906T211143Z
LAST-MODIFIED:20240203T180851Z
UID:7087-1706983200-1706990400@acrisurearena.com
SUMMARY:Firebirds vs. Roadrunners
DESCRIPTION:It’s time to Celebrate! Join us for a night of live music on the Plaza\, F&B specials\, giveaways and more presented by buzzbox! \nGiveaway: Beach Towel / Available to the first 6\,500 fans \nTICKET INFORMATION \nSingle-game tickets for the 2023-2024 season are on sale at Ticketmaster.com \nSEASON TICKETS \nFull Season and Half Season Ticket packages are on sale now. \nGROUP TICKETS \nBring a group of 10 or more people and enjoy ticket discounts and access to memorable benefits only available to group outings. Book your next event at a Firebirds game HERE. \nNEW! Upgrade your ticket for $27.50 when you add-on our new PREMIUM space\, The Compound. \nWe invite you to experience a unique backyard playground just steps away from the action on the ice. The Compound includes cozy fire pits with couches for lounging\, a 9-hole mini golf\, bocce ball\, half-court basketball and pickle ball court\, and so much more! The Compound includes a dedicated full-service bar and custom menu for purchase. Learn More HERE and then purchase HERE.  \n\nThis exclusive VIP space will be open 90-minutes prior to puck drops and throughout the game until the beginning of the third period. Fun for the entire family!\n\nAccess to The Compound is weather permitting. For your safety\, Acrisure Arena may be required to close The Compound. In this occurrence\, you will be notified at least 3.5 hours prior to puck drop. You will receive an automatic refund.
URL:https://acrisurearena.com/event/firebirds-vs-roadrunners-10/
LOCATION:Acrisure Arena\, 75702 Varner Rd\, Palm Desert\, CA\, 92211\, United States
CATEGORIES:Firebirds,Sports
ATTACH;FMTTYPE=image/png:https://acrisurearena.com/wp-content/uploads/2023/09/1920x1080_mardi-gras.png
END:VEVENT
BEGIN:VEVENT
DTSTART;TZID=America/Los_Angeles:20240209T200000
DTEND;TZID=America/Los_Angeles:20240209T233000
DTSTAMP:20260421T205617
CREATED:20231011T023009Z
LAST-MODIFIED:20240210T004432Z
UID:7279-1707508800-1707521400@acrisurearena.com
SUMMARY:Gloria Trevi
DESCRIPTION:Doors: 7pm\nThe Compound: 7pm \nGloria Trevi llevará su Mi Soundtrack World Tour 2024 a Acrisure Arena el Viernes 9 de Febrero. Los boletos encontrar a la venta para el público en general el Jueves 12 de Octubre a las 10am PT en Ticketmaster.com. \nGloria Trevi will bring her Mi Soundtrack World Tour 2024 to Acrisure Arena on Friday\, February 9. \nNEW! Upgrade your ticket for $55 when you add-on our new PREMIUM space\, The Compound. \nWe invite you to experience a unique backyard playground just steps away from the action on stage. The Compound includes cozy fire pits with couches for lounging\, a 9-hole mini golf\, bocce ball\, half-court basketball and pickle ball court\, and so much more! The Compound includes a dedicated full-service bar and custom menu for purchase. Your pass includes one (1) complimentary beer\, wine or a soft drink. Access is available throughout the event. Available until :30 minutes prior to the scheduled end of the event. Learn More HERE and then purchase HERE. \nELEVATE YOUR CONCERT EXPERIENCE! Purchasing tickets in the 201-206 and 227-223 sections on the premium Silvercrest Level include upscale amenities including cushioned seats\, upscale food and beverage options\, premium bathrooms\, all often with shorter lines than the Main Concourse level. Tickets in the 200 sections are available at Ticketmaster.com. \nCon un espectáculo vanguardista y elegante\, Trevi contará la evolución de su vida a través de nuevas versiones de sus clásicos y algunos temas inéditos que representan sin duda una nueva etapa. La inspiración para el concepto de la gira surge del reciente lanzamiento de la banda sonora de su vida\, “Mi Soundtrack” (Vol. 1 y Vol. Dos)\, brindando un nuevo aliento a clásicos como “Pelo Suelto”\, “Dr. Psiquiatra” y “Con los Ojos Cerrados”\, y por primera vez presentando nuevos éxitos inéditos tal como “Medusa”\, “Que Se Acabe El Mundo” y “Siempre Yo”\, entre otros. \nWith an avant-garde and elegant show\, Trevi will showcase her evolution through new versions of her iconic classics and new original tracks that represent the different moments of her life. The concept of the tour was inspired by the release of Trevi’s soundtrack to life\, “Mi Soundtrack” (Vol. 1 and Vol. Two)\, a compilation of newly recorded versions of her classic hits “Pelo Suelto\,” “Dr. Psiquiatra” and “Con los Ojos Cerrados\,” among others\, and will give life to newly released tracks like “Medusa\,” “Que Se Acabe El Mundo” and “Siempre Yo”\, among others.
URL:https://acrisurearena.com/event/gloria-trevi/
LOCATION:Acrisure Arena\, 75702 Varner Rd\, Palm Desert\, CA\, 92211\, United States
CATEGORIES:Concerts,Stand Together Series
ATTACH;FMTTYPE=image/png:https://acrisurearena.com/wp-content/uploads/2023/10/1920x1080_Gloria-Trevi.png
END:VEVENT
BEGIN:VEVENT
DTSTART;TZID=America/Los_Angeles:20240210T180000
DTEND;TZID=America/Los_Angeles:20240210T200000
DTSTAMP:20260421T205617
CREATED:20230906T211225Z
LAST-MODIFIED:20240210T004529Z
UID:7088-1707588000-1707595200@acrisurearena.com
SUMMARY:Firebirds vs. Silver Knights
DESCRIPTION:Pink the Rink presented by El Paseo Jewelers in honor of Breast Cancer patients and survivors! Be sure to wear pink and show your support! \nGiveaway: Pink Logo Visor \nAvailable to the first 6\,500 fans \nTICKET INFORMATION \nSingle-game tickets for the 2023-2024 season are on sale at Ticketmaster.com \nSEASON TICKETS \nFull Season and Half Season Ticket packages are on sale now. \nGROUP TICKETS \nBring a group of 10 or more people and enjoy ticket discounts and access to memorable benefits only available to group outings. Book your next event at a Firebirds game HERE. \nNEW! Experience The Compound\, An Add-On option \nCome explore a unique backyard playground just steps away from the on-ice action. The Compound includes cozy outdoor firepits and couches for lounging\, 9-hole mini golf\, bocce ball\, half-court basketball and pickle ball court\, lively music\, and much more! Experience a dedicated full bar and food options are available for purchase. \nThis exclusive VIP space will be open 90-minutes prior to puck drops and throughout the game until the beginning of the third period. Fun for the entire family! \nClick to purchase your Add On experience for an upcoming game HERE  \nAccess to The Compound is weather permitting. For your safety\, Acrisure Arena may be required to close The Compound. In this occurrence\, you will be notified at least 3.5 hours prior to puck drop. You will receive an automatic refund.
URL:https://acrisurearena.com/event/firebirds-vs-silver-knights-4/
LOCATION:Acrisure Arena\, 75702 Varner Rd\, Palm Desert\, CA\, 92211\, United States
CATEGORIES:Firebirds,Sports
ATTACH;FMTTYPE=image/png:https://acrisurearena.com/wp-content/uploads/2023/09/PinkInTheRink_1920x1080.png
END:VEVENT
BEGIN:VEVENT
DTSTART;TZID=America/Los_Angeles:20240214T200000
DTEND;TZID=America/Los_Angeles:20240214T230000
DTSTAMP:20260421T205617
CREATED:20231201T170001Z
LAST-MODIFIED:20240215T025157Z
UID:7503-1707940800-1707951600@acrisurearena.com
SUMMARY:Marc Anthony
DESCRIPTION:The Compound: 7:00pm \nMarc Anthony brings his Historia Tour 2024 to Acrisure Arena on Wednesday\, February 14. \nBe one of the 3\,500 fans to receive a complimentary rose\, courtesy of Hendrick’s Gin. \nSTART YOUR VALENTINE’S DAY EARLY. 💕 ADD ON OUR NEW PREMIUM SPACE\, THE COMPOUND.  \nStep into the ultimate VIP experience at The Compound\, the arena’s newest exclusive space just steps away from the action on stage. For Valentine’s Day\, we’re turning up the romance with Valentine’s-themed décor\, charming sweet treats\, signature cocktails\, setting the night for an unforgettable evening with your sweetheart or your gal pals. The Compound is a dedicated outdoor space with a dedicated bar. The Compound includes cozy fire pits with couches for lounging\, a 9-hole mini-golf course\, bocce ball\, half-court basketball\, and pickleball courts\, and so much more! Your pass to The Compound for Marc Anthony includes one complimentary beer\, wine\, or soft drink and food for purchase. Learn More HERE and then purchase HERE. \nELEVATE YOUR CONCERT EXPERIENCE! Purchasing tickets in the 201-206 and 227-223 sections on the premium Silvercrest Level include upscale amenities including cushioned seats\, upscale food and beverage options\, premium bathrooms\, all often with shorter lines than the Main Concourse level. Tickets in the 200 sections are available at Ticketmaster.com.
URL:https://acrisurearena.com/event/marc-anthony/
LOCATION:Acrisure Arena\, 75702 Varner Rd\, Palm Desert\, CA\, 92211\, United States
CATEGORIES:Concerts,Stand Together Series
ATTACH;FMTTYPE=image/jpeg:https://acrisurearena.com/wp-content/uploads/2023/12/240214_Marc-Anthony_v2_1920x1080.jpeg
END:VEVENT
BEGIN:VEVENT
DTSTART;TZID=America/Los_Angeles:20240215T190000
DTEND;TZID=America/Los_Angeles:20240215T210000
DTSTAMP:20260421T205617
CREATED:20230906T211255Z
LAST-MODIFIED:20240213T205407Z
UID:7089-1708023600-1708030800@acrisurearena.com
SUMMARY:Firebirds vs. Barracuda
DESCRIPTION:TICKET INFORMATION \nSingle-game tickets for the 2023-2024 season are on sale at Ticketmaster.com \nSEASON TICKETS \nFull Season and Half Season Ticket packages are on sale now. \nGROUP TICKETS \nBring a group of 10 or more people and enjoy ticket discounts and access to memorable benefits only available to group outings. Book your next event at a Firebirds game HERE.
URL:https://acrisurearena.com/event/firebirds-vs-barracuda-6/
LOCATION:Acrisure Arena\, 75702 Varner Rd\, Palm Desert\, CA\, 92211\, United States
CATEGORIES:Firebirds,Sports
ATTACH;FMTTYPE=image/png:https://acrisurearena.com/wp-content/uploads/2023/08/SAN-JOSE-BARRACUDAS-vs-CVF.png
END:VEVENT
BEGIN:VEVENT
DTSTART;TZID=America/Los_Angeles:20240217T180000
DTEND;TZID=America/Los_Angeles:20240217T200000
DTSTAMP:20260421T205617
CREATED:20230906T211334Z
LAST-MODIFIED:20240217T191750Z
UID:7090-1708192800-1708200000@acrisurearena.com
SUMMARY:Firebirds vs. Eagles
DESCRIPTION:TICKET INFORMATION \nSingle-game tickets for the 2023-2024 season are on sale at Ticketmaster.com \nSEASON TICKETS \nFull Season and Half Season Ticket packages are on sale now. \nGROUP TICKETS \nBring a group of 10 or more people and enjoy ticket discounts and access to memorable benefits only available to group outings. Book your next event at a Firebirds game HERE. \n\nNEW! Upgrade your ticket for $27.50 when you add-on our new PREMIUM space\, The Compound. \nWe invite you to experience a unique backyard playground just steps away from the action on the ice. The Compound includes cozy fire pits with couches for lounging\, a 9-hole mini golf\, bocce ball\, half-court basketball and pickle ball court\, and so much more! The Compound includes a dedicated full-service bar and custom menu for purchase. Learn More HERE and then purchase HERE.  \n\nThis exclusive VIP space will be open 90-minutes prior to puck drops and throughout the game until the beginning of the third period. Fun for the entire family!\n\nAccess to The Compound is weather permitting. For your safety\, Acrisure Arena may be required to close The Compound. In this occurrence\, you will be notified at least 3.5 hours prior to puck drop. You will receive an automatic refund.
URL:https://acrisurearena.com/event/firebirds-vs-eagles-5/
LOCATION:Acrisure Arena\, 75702 Varner Rd\, Palm Desert\, CA\, 92211\, United States
CATEGORIES:Firebirds,Sports
ATTACH;FMTTYPE=image/png:https://acrisurearena.com/wp-content/uploads/2023/08/COLORADO-EAGLES-vs-CVF.png
END:VEVENT
BEGIN:VEVENT
DTSTART;TZID=America/Los_Angeles:20240218T170000
DTEND;TZID=America/Los_Angeles:20240218T190000
DTSTAMP:20260421T205617
CREATED:20230906T211408Z
LAST-MODIFIED:20240219T003400Z
UID:7091-1708275600-1708282800@acrisurearena.com
SUMMARY:Firebirds vs. Silver Knights
DESCRIPTION:Celebrating all Kids tonight for our 1st annual Kids Day game\, presented by 1st Bank! \nGiveaway: Kids Jersey/Available to the first 3\,000 kids 12 years of age and younger \n\nNEW! Upgrade your ticket for $27.50 when you add-on our new PREMIUM space\, The Compound. \nWe invite you to experience a unique backyard playground just steps away from the action on the ice. The Compound includes cozy fire pits with couches for lounging\, a 9-hole mini golf\, bocce ball\, half-court basketball and pickle ball court\, and so much more! The Compound includes a dedicated full-service bar and custom menu for purchase. Learn More HERE and then purchase HERE.  \n\nThis exclusive VIP space will be open 90-minutes prior to puck drops and throughout the game until the beginning of the third period. Fun for the entire family!\n\nAccess to The Compound is weather permitting. For your safety\, Acrisure Arena may be required to close The Compound. In this occurrence\, you will be notified at least 3.5 hours prior to puck drop. You will receive an automatic refund. \n\n\n 
URL:https://acrisurearena.com/event/firebirds-vs-silver-knights-5/
LOCATION:Acrisure Arena\, 75702 Varner Rd\, Palm Desert\, CA\, 92211\, United States
CATEGORIES:Firebirds,Sports
ATTACH;FMTTYPE=image/png:https://acrisurearena.com/wp-content/uploads/2023/09/KidsDay_1920x1080.png
END:VEVENT
BEGIN:VEVENT
DTSTART;TZID=America/Los_Angeles:20240223T193000
DTEND;TZID=America/Los_Angeles:20240223T230000
DTSTAMP:20260421T205617
CREATED:20230913T135915Z
LAST-MODIFIED:20240220T173815Z
UID:7132-1708716600-1708729200@acrisurearena.com
SUMMARY:Olivia Rodrigo
DESCRIPTION:PRE-PURCHASE PARKING – HERE\nSave 20% when you purchase parking in advance! EV Parking and Accessible Parking are first-come\, first-served and cannot be reserved separately. ParkWhiz is our official parking vendor. \nOlivia Rodrigo kicks off her GUTS world tour at Acrisure Arena on Friday\, February 23\, 2024. Get all the details in the Know Before You Go HERE. \nMulti-platinum\, three-time Grammy award-winning artist Olivia Rodrigo announced her highly anticipated GUTS world tour in support of her second studio album\, GUTS\, which was released September 8 via Geffen Records to critical acclaim. Produced by Live Nation\, the massive global 2024 tour kicks off its 57-date run on Friday\, February 23 in greater Palm Springs\, CA at Acrisure Arena. \nFollowing the incredible success of her 2022 debut tour The SOUR Tour\, the GUTS world tour will be Olivia’s first arena tour\, taking her to iconic venues around the world including Madison Square Garden\, Kia Forum\, Sportpaleis\, The O2 and more. During this run\, she will be performing multiple nights in various cities\, including two nights in New York\, Los Angeles\, and London. \nOne of the most highly awaited albums of the year\, GUTS arrived as the follow-up to Rodrigo’s 4x Platinum 2021 full-length debut SOUR and features her No. 1 hit “vampire” and the new focus track “get him back!” Like “vampire\,” GUTS’ second single “bad idea\, right?” was named a Best New Track by Pitchfork\, who hailed the latter as “one of the best pop performances of the year.” Released last month alongside its B-movie-inspired video\, “bad idea right?” also drew raves from the likes of Rolling Stone (who called it a “sugary headbanger”) and the New York Times (who praised the track as a “bright\, kaleidoscopic head-rush of a pop song…” in its weekly column “The Playlist”). \nCritical Acclaim for GUTS: \n“Rodrigo is a songwriter of rather astonishing purity — even in her most stylized lyrics\, she never wanders far from the unformed gut-kick of a feeling.” – The New York Times  \n “… Guts is another instant classic\, with her most ambitious\, intimate\, and messy songs yet. Olivia’s pop-punk bangers are full of killer lines” – Rolling Stone \n “Guts is a no-skip album”  – USA Today \n“All over Guts\, she’s so witty\, so pissed off\, so angsty at the same time\, the way only a rock star can be. And this is the album of a truly brilliant rock star.” – Rolling Stone \n“With Guts\, Rodrigo has released the most complete pop album of the year.”–  Billboard
URL:https://acrisurearena.com/event/olivia-rodrigo/
LOCATION:Acrisure Arena\, 75702 Varner Rd\, Palm Desert\, CA\, 92211\, United States
CATEGORIES:Concerts,Stand Together Series
ATTACH;FMTTYPE=image/jpeg:https://acrisurearena.com/wp-content/uploads/2023/09/240223_Olivia-Rodrigo_1920x1080.jpg
END:VEVENT
BEGIN:VEVENT
DTSTART;TZID=America/Los_Angeles:20240228T190000
DTEND;TZID=America/Los_Angeles:20240228T210000
DTSTAMP:20260421T205617
CREATED:20230906T211758Z
LAST-MODIFIED:20230911T034417Z
UID:7092-1709146800-1709154000@acrisurearena.com
SUMMARY:Firebirds vs. Barracuda
DESCRIPTION:TICKET INFORMATION \nSingle-game tickets for the 2023-2024 season are on sale at Ticketmaster.com \nSEASON TICKETS \nFull Season and Half Season Ticket packages are on sale now. \nGROUP TICKETS \nBring a group of 10 or more people and enjoy ticket discounts and access to memorable benefits only available to group outings. Book your next event at a Firebirds game HERE.
URL:https://acrisurearena.com/event/firebirds-vs-barracuda-7/
LOCATION:Acrisure Arena\, 75702 Varner Rd\, Palm Desert\, CA\, 92211\, United States
CATEGORIES:Firebirds,Sports
ATTACH;FMTTYPE=image/png:https://acrisurearena.com/wp-content/uploads/2023/08/SAN-JOSE-BARRACUDAS-vs-CVF.png
END:VEVENT
END:VCALENDAR