BEGIN:VCALENDAR
VERSION:2.0
PRODID:-//Acrisure Arena - ECPv6.15.18//NONSGML v1.0//EN
CALSCALE:GREGORIAN
METHOD:PUBLISH
X-WR-CALNAME:Acrisure Arena
X-ORIGINAL-URL:https://acrisurearena.com
X-WR-CALDESC:Events for Acrisure Arena
REFRESH-INTERVAL;VALUE=DURATION:PT1H
X-Robots-Tag:noindex
X-PUBLISHED-TTL:PT1H
BEGIN:VTIMEZONE
TZID:America/Los_Angeles
BEGIN:DAYLIGHT
TZOFFSETFROM:-0800
TZOFFSETTO:-0700
TZNAME:PDT
DTSTART:20220313T100000
END:DAYLIGHT
BEGIN:STANDARD
TZOFFSETFROM:-0700
TZOFFSETTO:-0800
TZNAME:PST
DTSTART:20221106T090000
END:STANDARD
BEGIN:DAYLIGHT
TZOFFSETFROM:-0800
TZOFFSETTO:-0700
TZNAME:PDT
DTSTART:20230312T100000
END:DAYLIGHT
BEGIN:STANDARD
TZOFFSETFROM:-0700
TZOFFSETTO:-0800
TZNAME:PST
DTSTART:20231105T090000
END:STANDARD
BEGIN:DAYLIGHT
TZOFFSETFROM:-0800
TZOFFSETTO:-0700
TZNAME:PDT
DTSTART:20240310T100000
END:DAYLIGHT
BEGIN:STANDARD
TZOFFSETFROM:-0700
TZOFFSETTO:-0800
TZNAME:PST
DTSTART:20241103T090000
END:STANDARD
END:VTIMEZONE
BEGIN:VEVENT
DTSTART;TZID=America/Los_Angeles:20230602T200000
DTEND;TZID=America/Los_Angeles:20230602T230000
DTSTAMP:20260423T091458
CREATED:20221114T150045Z
LAST-MODIFIED:20230601T022827Z
UID:5521-1685736000-1685746800@acrisurearena.com
SUMMARY:Lizzo
DESCRIPTION:Coming off her Emmy Award win for Outstanding Competition Program and her VMAs Video for Good Award for “About Damn Time” (which reached number one on the Billboard Hot 100 Chart and the top 10 in 12 other countries)\, her most recent album Special peaked at number 2 on the US Billboard 200 chart\, hailed by Rolling Stone as “the most unabashedly joyous\, sonically diverse\, and emotionally profound album put out by a major label since Beyonce’s Lemonade.” \nOverflow Parking Available\nIf you have not yet purchased parking\, we encourage you to do so in advance to park in the Main Lot. As an alternative\, you can also pre-purchase at a reduced rate the Xavier College Preparatory High School Overflow Lot. This overflow lot feature complimentary and continously running shuttle service to Acrisure Arena. – Pre-purchase HERE \n \nGA PIT TICKET HOLDERS\nGA Pit ticket holders will line up\, if you so choose to arrive early\, at the pink star indicated on the above map between 6PM-7PM before doors open. GA Pit holders are not required to line up after doors open. Please do not lineup before 5PM when our parking lots open. Acrisure Arena is located in an isolated area of the desert. No camping or overnight parking allowed. Water services\, shade\, and restrooms will not be available before doors open at 7PM.
URL:https://acrisurearena.com/event/lizzo/
LOCATION:Acrisure Arena\, 75702 Varner Rd\, Palm Desert\, CA\, 92211\, United States
CATEGORIES:Concerts,Stand Together Series
ATTACH;FMTTYPE=image/jpeg:https://acrisurearena.com/wp-content/uploads/2022/11/Static_Outdoor-ConcertVision_1920x1080_Lizzo_2023_Regional_AcrisureArena_0602_Latto.jpg
END:VEVENT
BEGIN:VEVENT
DTSTART;TZID=America/Los_Angeles:20230605T190000
DTEND;TZID=America/Los_Angeles:20230605T213000
DTSTAMP:20260423T091458
CREATED:20230530T171636Z
LAST-MODIFIED:20230604T231040Z
UID:6638-1685991600-1686000600@acrisurearena.com
SUMMARY:Firebirds vs. Milwaukee Admirals
DESCRIPTION:SOLD OUT! \nThe Coachella Valley Firebirds will square off against the Milwaukee Admirals in the 2023 Western Conference Final. The Admirals are winners of the Central Division Championship. \nSERIES SCHEDULE\nGame 6 – Mon.\, June 5 – Milwaukee at Coachella Valley\, 7:00 PT – SOLD OUT\n*Game 7 – Wed.\, June 7 – Milwaukee at Coachella Valley\, 7:00 PT\n \n*if necessary \nThe Firebirds are burning white hot as they enter Round 4 of the Playoffs and fans are encouraged to wear white to all Round 4 home games and arrive early to cheer on the home team at Acrisure Arena!
URL:https://acrisurearena.com/event/firebirds-vs-milwaukee-admirals-3/
LOCATION:Acrisure Arena\, 75702 Varner Rd\, Palm Desert\, CA\, 92211\, United States
CATEGORIES:Firebirds,Stand Together Series
ATTACH;FMTTYPE=image/jpeg:https://acrisurearena.com/wp-content/uploads/2023/05/1920x1080_Sold-Out_060523.jpeg
END:VEVENT
BEGIN:VEVENT
DTSTART;TZID=America/Los_Angeles:20230608T190000
DTEND;TZID=America/Los_Angeles:20230608T220000
DTSTAMP:20260423T091458
CREATED:20230606T160150Z
LAST-MODIFIED:20230608T225706Z
UID:6684-1686250800-1686261600@acrisurearena.com
SUMMARY:Firebirds vs. Hershey Bears
DESCRIPTION:The oldest team in the AHL will face off with the newest team in the League in a best of seven series in which the Coachella Valley Firebirds host Game 1 and 2 at home beginning Thursday\, June 8\, 2023. \nThe full schedule for the Calder Cup Finals is: \nGame 1 – Thu.\, June 8 – Hershey at Coachella Valley\, 7pm PT\nGame 2 – Sat.\, June 10 – Hershey at Coachella Valley\, 7pm PT\nGame 3 – Tue.\, June 13 – Coachella Valley at Hershey\, 4pm PT\nGame 4 – Thu.\, June 15 – Coachella Valley at Hershey\, 4pm PT\n* Game 5 – Sat.\, June 17 – Coachella Valley at Hershey\, 4pm PT\n* Game 6 – Mon.\, June 19 – Hershey at Coachella Valley\, 7pm PT\n* Game 7 – Wed.\, June 21 – Hershey at Coachella Valley\, 7pm PT\n* if necessary \nBOX OFFICE HOURS THIS WEEK \nIn order to accommodate fans\, the Ticketmaster Box Office at Acrisure Arena will have extended hours of operation this week. \nTUESDAY\, JUNE 6: 10 a.m. – 4 p.m.\nWEDNESDAY\, JUNE 7: 10 a.m. – 4 p.m.\nTHURSDAY\, JUNE 8: 10 a.m. – 2nd Period (Game 1)\nFRIDAY\, JUNE 9: 10 a.m. – 4 p.m.\nSATURDAY\, JUNE 10: 10 a.m. – 2nd Period (Game 2) \nHours are subject to change. Tickets to all events at Acrisure Arena are available for purchase without online convenience fees at the Ticketmaster Box Office only.
URL:https://acrisurearena.com/event/firebirds-vs-hershey-bears/
LOCATION:Acrisure Arena\, 75702 Varner Rd\, Palm Desert\, CA\, 92211\, United States
CATEGORIES:Firebirds,Stand Together Series
ATTACH;FMTTYPE=image/png:https://acrisurearena.com/wp-content/uploads/2023/06/1920-x-1080_Calder-Cup_advert_no-schedule.png
END:VEVENT
BEGIN:VEVENT
DTSTART;TZID=America/Los_Angeles:20230610T190000
DTEND;TZID=America/Los_Angeles:20230610T223000
DTSTAMP:20260423T091458
CREATED:20230606T160704Z
LAST-MODIFIED:20230608T225816Z
UID:6685-1686423600-1686436200@acrisurearena.com
SUMMARY:Firebirds vs Hershey Bears
DESCRIPTION:The oldest team in the AHL will faces off with the newest team in the League in a best of seven series in which the Coachella Valley Firebirds host Game 1 and 2 at home beginning Thursday\, June 8\, 2023. \nThe full schedule for the Calder Cup Finals is: \nGame 1 – Thu.\, June 8 – Hershey at Coachella Valley\, 7pm PT\nGame 2 – Sat.\, June 10 – Hershey at Coachella Valley\, 7pm PT\nGame 3 – Tue.\, June 13 – Coachella Valley at Hershey\, 4pm PT\nGame 4 – Thu.\, June 15 – Coachella Valley at Hershey\, 4pm PT\n* Game 5 – Sat.\, June 17 – Coachella Valley at Hershey\, 4pm PT\n* Game 6 – Mon.\, June 19 – Hershey at Coachella Valley\, 7pm PT\n* Game 7 – Wed.\, June 21 – Hershey at Coachella Valley\, 7pm PT\n* if necessary \nBOX OFFICE HOURS THIS WEEK \nIn order to accommodate fans\, the Ticketmaster Box Office at Acrisure Arena will have extended hours of operation this week. \nTHURSDAY\, JUNE 8: 10 a.m. – 2nd Period (Game 1)\nFRIDAY\, JUNE 9: 10 a.m. – 4 p.m.\nSATURDAY\, JUNE 10: 10 a.m. – 2nd Period (Game 2) \nHours are subject to change. Tickets to all events at Acrisure Arena are available for purchase without online convenience fees at the Ticketmaster Box Office only.
URL:https://acrisurearena.com/event/firebirds-vs-hershey-bears-2/
LOCATION:Acrisure Arena\, 75702 Varner Rd\, Palm Desert\, CA\, 92211\, United States
CATEGORIES:Firebirds,Stand Together Series
ATTACH;FMTTYPE=image/png:https://acrisurearena.com/wp-content/uploads/2023/06/1920-x-1080_Calder-Cup_advert_no-schedule.png
END:VEVENT
BEGIN:VEVENT
DTSTART;TZID=America/Los_Angeles:20230616T200000
DTEND;TZID=America/Los_Angeles:20230616T230000
DTSTAMP:20260423T091458
CREATED:20230206T180029Z
LAST-MODIFIED:20230612T195302Z
UID:6008-1686945600-1686956400@acrisurearena.com
SUMMARY:Banda MS
DESCRIPTION:“Celebrate dad’s fiesta at Acrisure Arena with our Family 4 Pack special offer to Banda MS this June 16! Tickets onsale at Ticketmaster. \n“¡Celebra a papá a lo grande en Acrisure Arena con la oferta Family 4 Pack para el concierto de Banda MS este 16 de Junio! Boletos a la venta en Ticketmaster. \nTop Regional Mexican musical group Banda MS is celebrating their 20th Anniversary when they bring their tour to Acrisure Arena on Friday\, June 16. With the tour “MS 20 Años”\, Banda MS celebrates 20 years of professional career with wonderful surprises for the public. Crossing borders and with a unique style\, in which banda music has acquired a touch of freshness\, modernity and musical creativity\, Banda MS continues to break parameters. Today Banda MS remains an iconic example of regional Mexican music. \nCon un espectáculo totalmente renovado\, la BANDA MS confirma presentación el Acrisure Arena. Con el tour “MS 20 Años” la agrupación celebra 20 años de trayectoria profesional con grandes sorpresas para el público. Traspasando fronteras y con un estilo único\, en el cual la música de banda ha adquirido un toque de frescura\, modernidad y creatividad musical\, la BANDA MS esta sigue rompiendo parámetros. \nIn 2003 in Mazatlán\, Sinaloa\, the Banda MS de Sergio Lizárraga was born\, taking the initials of his homeland to give the group its name. The founders of the band managed to combine their ideas and concerns to offer people a different and original product; using its own formula and printing a cheerful and versatile touch. \nYouth\, explosiveness and talent\, are the words with which we can currently define Banda MS\, created by seven teenagers who\, after having belonged to other renowned groups\, decided to form their own musical organization. For a year and a half they planned the birth of a new band\, they began to take the first steps to make reality\, what at that time\, were only dreams. \nTo date\, Banda MS is synonymous with stability and international projection. Always with firm objectives\, the group has earned the nickname of “the highest grossing band”\, a slogan that reflects the work that has been carried out throughout more than 15 years of musical career.
URL:https://acrisurearena.com/event/banda-ms/
LOCATION:Acrisure Arena\, 75702 Varner Rd\, Palm Desert\, CA\, 92211\, United States
CATEGORIES:Concerts,Stand Together Series
ATTACH;FMTTYPE=image/jpeg:https://acrisurearena.com/wp-content/uploads/2023/05/230616_Banda-MS_1920x1080.jpeg
END:VEVENT
BEGIN:VEVENT
DTSTART;TZID=America/Los_Angeles:20230619T190000
DTEND;TZID=America/Los_Angeles:20230619T213000
DTSTAMP:20260423T091458
CREATED:20230612T180316Z
LAST-MODIFIED:20230619T174302Z
UID:6699-1687201200-1687210200@acrisurearena.com
SUMMARY:Firebirds vs. Hershey Bears
DESCRIPTION:The oldest team in the AHL will faces off with the newest team in the League in a best of seven series. \nGame 6 – Mon.\, June 19 – Hershey at Coachella Valley\, 7pm PT\n*Game 7 – Wed.\, June 21 – Hershey at Coachella Valley\, 7pm PT\n*If necessary \nHours are subject to change. Tickets to all events at Acrisure Arena are available for purchase without online convenience fees at the Ticketmaster Box Office only.
URL:https://acrisurearena.com/event/firebirds-vs-hershey-bears-3/
LOCATION:Acrisure Arena\, 75702 Varner Rd\, Palm Desert\, CA\, 92211\, United States
CATEGORIES:Firebirds,Sports
ATTACH;FMTTYPE=image/png:https://acrisurearena.com/wp-content/uploads/2023/06/1920-x-1080_Calder-Cup_advert_no-schedule.png
END:VEVENT
BEGIN:VEVENT
DTSTART;TZID=America/Los_Angeles:20230621T190000
DTEND;TZID=America/Los_Angeles:20230621T213000
DTSTAMP:20260423T091458
CREATED:20230612T180800Z
LAST-MODIFIED:20230621T175051Z
UID:6700-1687374000-1687383000@acrisurearena.com
SUMMARY:Firebirds vs. Hershey Bears
DESCRIPTION:The oldest team in the AHL will faces off with the newest team in the League in a best of seven series. \nGame 6 – Mon.\, June 19 – Hershey at Coachella Valley\, 7pm PT\n* Game 7 – Wed.\, June 21 – Hershey at Coachella Valley\, 7pm PT\n* if necessary \nHours are subject to change. Tickets to all events at Acrisure Arena are available for purchase without online convenience fees at the Ticketmaster Box Office only. \nOverflow Parking Available\nParking in the Main Lot is sold out\, but you may still purchase parking at a reduced rate for the Xavier College Preparatory High School Overflow Lot. This overflow lot feature complimentary and continously running shuttle service to Acrisure Arena. Purchase parking HERE
URL:https://acrisurearena.com/event/firebirds-vs-hershey-bears-4/
LOCATION:Acrisure Arena\, 75702 Varner Rd\, Palm Desert\, CA\, 92211\, United States
CATEGORIES:Firebirds,Sports
ATTACH;FMTTYPE=image/png:https://acrisurearena.com/wp-content/uploads/2023/06/1920-x-1080_Sold-Out_6.21.png
END:VEVENT
END:VCALENDAR