BEGIN:VCALENDAR
VERSION:2.0
PRODID:-//Acrisure Arena - ECPv6.15.18//NONSGML v1.0//EN
CALSCALE:GREGORIAN
METHOD:PUBLISH
X-WR-CALNAME:Acrisure Arena
X-ORIGINAL-URL:https://acrisurearena.com
X-WR-CALDESC:Events for Acrisure Arena
REFRESH-INTERVAL;VALUE=DURATION:PT1H
X-Robots-Tag:noindex
X-PUBLISHED-TTL:PT1H
BEGIN:VTIMEZONE
TZID:America/Los_Angeles
BEGIN:DAYLIGHT
TZOFFSETFROM:-0800
TZOFFSETTO:-0700
TZNAME:PDT
DTSTART:20250309T100000
END:DAYLIGHT
BEGIN:STANDARD
TZOFFSETFROM:-0700
TZOFFSETTO:-0800
TZNAME:PST
DTSTART:20251102T090000
END:STANDARD
BEGIN:DAYLIGHT
TZOFFSETFROM:-0800
TZOFFSETTO:-0700
TZNAME:PDT
DTSTART:20260308T100000
END:DAYLIGHT
BEGIN:STANDARD
TZOFFSETFROM:-0700
TZOFFSETTO:-0800
TZNAME:PST
DTSTART:20261101T090000
END:STANDARD
BEGIN:DAYLIGHT
TZOFFSETFROM:-0800
TZOFFSETTO:-0700
TZNAME:PDT
DTSTART:20270314T100000
END:DAYLIGHT
BEGIN:STANDARD
TZOFFSETFROM:-0700
TZOFFSETTO:-0800
TZNAME:PST
DTSTART:20271107T090000
END:STANDARD
END:VTIMEZONE
BEGIN:VEVENT
DTSTART;TZID=America/Los_Angeles:20260110T180000
DTEND;TZID=America/Los_Angeles:20260110T213000
DTSTAMP:20260420T065019
CREATED:20250922T224708Z
LAST-MODIFIED:20251208T183525Z
UID:10556-1768068000-1768080600@acrisurearena.com
SUMMARY:CV Firebirds vs. Henderson Silver Knights
DESCRIPTION:The Coachella Valley Firebirds go against the Ontario Reign on Saturday\, January 10\, 2026\, 6pm. \nTickets at Ticketmaster\, the official ticketing provider of Acrisure Arena. \nSEASON TICKET PACKAGES\nGuarantee your seats for the 2025-26 season. Learn more at cvfirebirds.com/seasontickets \nGROUP TICKETS\nBring a group of 10 or more people and enjoy ticket discounts and access to memorable benefits only available to group outings. Receive special pricing\, exclusive opportunities\, and a great experience when you bring your group out to a Firebirds game! Whether you are looking to host a company outing\, celebrate a birthday\, entertain clients\, or enjoy a family fun school night\, the Firebirds have options for every occasion. For more information on Firebirds group tickets\, click HERE.
URL:https://acrisurearena.com/event/ontario-reign-vs-cv-firebirds-260110/
LOCATION:Acrisure Arena\, 75702 Varner Rd\, Palm Desert\, CA\, 92211\, United States
CATEGORIES:Firebirds,Sports
ATTACH;FMTTYPE=image/png:https://acrisurearena.com/wp-content/uploads/2025/09/2025-26_Henderson-vs-CVFB.png
END:VEVENT
BEGIN:VEVENT
DTSTART;TZID=America/Los_Angeles:20260116T143000
DTEND;TZID=America/Los_Angeles:20260116T200000
DTSTAMP:20260420T065019
CREATED:20251118T170047Z
LAST-MODIFIED:20260116T233048Z
UID:10797-1768573800-1768593600@acrisurearena.com
SUMMARY:Golden Boy Boxing
DESCRIPTION:  \nBouts Starting at 2:30PM\nRicardo RUVALCABA vs Johnathan ENIZ\nFabian GUZMAN vs Jose RODRIGUEZ\nJohn RAMIREZ vs Byron ROJAS\nJordan PANTHEN vs Jean PACHECO\nBouts Starting at 5:00PM\nCayden GRIFFITHS vs Lesther ESPINO\nRusian ABDULAEV vs Eduardo ABREU\nJoel IRIARTE vs Jireh DE LOS SANTOS\n\nMain Events\nManuel FLORES vs Jorge CHAVEZ\nJordan PANTHEN vs Raul CURIEL\nBout cards and order subject to change. \n  \nALEXIS “LEX” ROCHA AND RAUL “EL CUGÁR” CURIEL SET TO SETTLE THE SCORE AFTER THEIR EXPLOSIVE DRAW \nMANUEL “GUCCI MANNY” FLORES AND JORGE “EL NIÑO DORADO” CHAVEZ SET FOR REMATCH AFTER THEIR HEATED\, CONTROVERSIAL FIRST MEETING \nGolden Boy Promotions will kick off its 2026 fight calendar with a bang\, rolling out a slate of high-stakes rematches to open the new year. Headlining the card\, NABO Welterweight Champion Alexis “Lex” Rocha (25-2-1\, 16 KOs) and NABF Welterweight Champion Raul “El Cugár” Curiel (16-0-1\, 13 KOs) will finally settle the score after their heated first meeting ended in a draw. The 12-round showdown between the two top contenders will take place Friday\, January 16\, live from Acrisure Arena in Palm Desert\, Calif.\, and broadcast worldwide on DAZN.  \n“January 16th isn’t a new fight\, it’s Round 13\,” said Alexis Rocha. “Curiel and I left something unfinished\, and this time I’m not stopping until there’s no doubt left in anyone’s mind. He’s going to feel everything I’ve carried since that night. At Acrisure Arena\, I’m ending this story — permanently.” \nTickets can be purchased at Ticketmaster.com on November 21st at 9am. \n“I am very excited to continue to build my legacy\, be able to fight and continue this boxing saga\,” said Raul Curiel. “I am filled with emotions knowing that I will represent Mexico and my hometown of Tampico.”  \n“We’re kicking off our 2026 fight calendar with the kind of high-impact\, high-stakes rematches fans demanded we run back\,” said Chairman and CEO Oscar De La Hoya. “January 16 will bring classic Golden Boy excitement and showcase the Coachella Valley’s next generation of stars we’ve been shaping from the ground up.” \nOn the undercard\, Coachella Valley’s Manuel “Gucci Manny” Flores (20-1-1\, 16 KOs) and Tijuana’s Jorge “El Niño Dorado” Chavez (14-0-1\, 8 KOs) will meet in a rematch that could define the next phase of their careers. The super bantamweight clash is scheduled for 10 rounds.
URL:https://acrisurearena.com/event/golden-boy-boxing/
LOCATION:Acrisure Arena\, 75702 Varner Rd\, Palm Desert\, CA\, 92211\, United States
CATEGORIES:Events,Sports
ATTACH;FMTTYPE=image/jpeg:https://acrisurearena.com/wp-content/uploads/2025/11/260116_Golden-Boy-Boxing_1920x1080.jpg
END:VEVENT
BEGIN:VEVENT
DTSTART;TZID=America/Los_Angeles:20260118T170000
DTEND;TZID=America/Los_Angeles:20260118T213000
DTSTAMP:20260420T065019
CREATED:20250922T232833Z
LAST-MODIFIED:20251208T183734Z
UID:10557-1768755600-1768771800@acrisurearena.com
SUMMARY:CV Firebirds vs. Abbotsford Canucks
DESCRIPTION:The Coachella Valley Firebirds go against the Abbotsford Canucks on Sunday\, January 18\, 2026\, 5pm. \nTickets at Ticketmaster\, the official ticketing provider of Acrisure Arena. \nSEASON TICKET PACKAGES\nGuarantee your seats for the 2025-26 season. Learn more at cvfirebirds.com/seasontickets \nGROUP TICKETS\nBring a group of 10 or more people and enjoy ticket discounts and access to memorable benefits only available to group outings. Receive special pricing\, exclusive opportunities\, and a great experience when you bring your group out to a Firebirds game! Whether you are looking to host a company outing\, celebrate a birthday\, entertain clients\, or enjoy a family fun school night\, the Firebirds have options for every occasion. For more information on Firebirds group tickets\, click HERE.
URL:https://acrisurearena.com/event/abbotsford-canucks-vs-cv-firebirds-260118/
LOCATION:Acrisure Arena\, 75702 Varner Rd\, Palm Desert\, CA\, 92211\, United States
CATEGORIES:Firebirds,Sports
ATTACH;FMTTYPE=image/png:https://acrisurearena.com/wp-content/uploads/2025/09/2025-26_Abbotsford-vs-CVFB.png
END:VEVENT
BEGIN:VEVENT
DTSTART;TZID=America/Los_Angeles:20260123T190000
DTEND;TZID=America/Los_Angeles:20260123T223000
DTSTAMP:20260420T065019
CREATED:20250923T020507Z
LAST-MODIFIED:20251208T184504Z
UID:10559-1769194800-1769207400@acrisurearena.com
SUMMARY:CV Firebirds vs. Ontario Reign
DESCRIPTION:The Coachella Valley Firebirds go against the Ontario Reign on Friday\, January 23\, 2026\, 7pm. \nTickets at Ticketmaster\, the official ticketing provider of Acrisure Arena. \nSEASON TICKET PACKAGES\nGuarantee your seats for the 2025-26 season. Learn more at cvfirebirds.com/seasontickets \nGROUP TICKETS\nBring a group of 10 or more people and enjoy ticket discounts and access to memorable benefits only available to group outings. Receive special pricing\, exclusive opportunities\, and a great experience when you bring your group out to a Firebirds game! Whether you are looking to host a company outing\, celebrate a birthday\, entertain clients\, or enjoy a family fun school night\, the Firebirds have options for every occasion. For more information on Firebirds group tickets\, click HERE.
URL:https://acrisurearena.com/event/ontario-reign-vs-cv-firebirds-260123/
LOCATION:Acrisure Arena\, 75702 Varner Rd\, Palm Desert\, CA\, 92211\, United States
CATEGORIES:Firebirds,Sports
ATTACH;FMTTYPE=image/png:https://acrisurearena.com/wp-content/uploads/2025/09/2025-26_Reigns-vs-CVFB.png
END:VEVENT
BEGIN:VEVENT
DTSTART;TZID=America/Los_Angeles:20260128T183000
DTEND;TZID=America/Los_Angeles:20260128T223000
DTSTAMP:20260420T065019
CREATED:20250923T020923Z
LAST-MODIFIED:20250923T033840Z
UID:10583-1769625000-1769639400@acrisurearena.com
SUMMARY:CV Firebirds vs. Colorado Eagles
DESCRIPTION:The Coachella Valley Firebirds go against the Colorado Eagles on Wednesday\, January 28\, 2026\, 6:30pm. \nTickets at Ticketmaster\, the official ticketing provider of Acrisure Arena. \nSEASON TICKET PACKAGES\nGuarantee your seats for the 2025-26 season. Learn more at cvfirebirds.com/seasontickets \nGROUP TICKETS\nBring a group of 10 or more people and enjoy ticket discounts and access to memorable benefits only available to group outings. Receive special pricing\, exclusive opportunities\, and a great experience when you bring your group out to a Firebirds game! Whether you are looking to host a company outing\, celebrate a birthday\, entertain clients\, or enjoy a family fun school night\, the Firebirds have options for every occasion. For more information on Firebirds group tickets\, click HERE.
URL:https://acrisurearena.com/event/colorado-eagls-vs-cv-firebirds-260128/
LOCATION:Acrisure Arena\, 75702 Varner Rd\, Palm Desert\, CA\, 92211\, United States
CATEGORIES:Firebirds,Sports
ATTACH;FMTTYPE=image/png:https://acrisurearena.com/wp-content/uploads/2025/09/2025-26_Colorado-vs-CVFB-1.png
END:VEVENT
BEGIN:VEVENT
DTSTART;TZID=America/Los_Angeles:20260130T190000
DTEND;TZID=America/Los_Angeles:20260130T223000
DTSTAMP:20260420T065019
CREATED:20250923T021155Z
LAST-MODIFIED:20250923T033803Z
UID:10584-1769799600-1769812200@acrisurearena.com
SUMMARY:CV Firebirds vs. San Diego Gulls
DESCRIPTION:The Coachella Valley Firebirds go against the San Diego Gulls on Friday\, January 30\, 2026\, 7pm. \nTickets at Ticketmaster\, the official ticketing provider of Acrisure Arena. \nSEASON TICKET PACKAGES\nGuarantee your seats for the 2025-26 season. Learn more at cvfirebirds.com/seasontickets \nGROUP TICKETS\nBring a group of 10 or more people and enjoy ticket discounts and access to memorable benefits only available to group outings. Receive special pricing\, exclusive opportunities\, and a great experience when you bring your group out to a Firebirds game! Whether you are looking to host a company outing\, celebrate a birthday\, entertain clients\, or enjoy a family fun school night\, the Firebirds have options for every occasion. For more information on Firebirds group tickets\, click HERE.
URL:https://acrisurearena.com/event/san-diego-gulls-vs-cv-firebirds-260130/
LOCATION:Acrisure Arena\, 75702 Varner Rd\, Palm Desert\, CA\, 92211\, United States
CATEGORIES:Firebirds,Sports
ATTACH;FMTTYPE=image/png:https://acrisurearena.com/wp-content/uploads/2025/09/2025-26_San-Diego-vs-CVFB.png
END:VEVENT
END:VCALENDAR