BEGIN:VCALENDAR
VERSION:2.0
PRODID:-//Acrisure Arena - ECPv6.15.18//NONSGML v1.0//EN
CALSCALE:GREGORIAN
METHOD:PUBLISH
X-ORIGINAL-URL:https://acrisurearena.com
X-WR-CALDESC:Events for Acrisure Arena
REFRESH-INTERVAL;VALUE=DURATION:PT1H
X-Robots-Tag:noindex
X-PUBLISHED-TTL:PT1H
BEGIN:VTIMEZONE
TZID:America/Los_Angeles
BEGIN:DAYLIGHT
TZOFFSETFROM:-0800
TZOFFSETTO:-0700
TZNAME:PDT
DTSTART:20220313T100000
END:DAYLIGHT
BEGIN:STANDARD
TZOFFSETFROM:-0700
TZOFFSETTO:-0800
TZNAME:PST
DTSTART:20221106T090000
END:STANDARD
BEGIN:DAYLIGHT
TZOFFSETFROM:-0800
TZOFFSETTO:-0700
TZNAME:PDT
DTSTART:20230312T100000
END:DAYLIGHT
BEGIN:STANDARD
TZOFFSETFROM:-0700
TZOFFSETTO:-0800
TZNAME:PST
DTSTART:20231105T090000
END:STANDARD
BEGIN:DAYLIGHT
TZOFFSETFROM:-0800
TZOFFSETTO:-0700
TZNAME:PDT
DTSTART:20240310T100000
END:DAYLIGHT
BEGIN:STANDARD
TZOFFSETFROM:-0700
TZOFFSETTO:-0800
TZNAME:PST
DTSTART:20241103T090000
END:STANDARD
END:VTIMEZONE
BEGIN:VEVENT
DTSTART;TZID=America/Los_Angeles:20230210T200000
DTEND;TZID=America/Los_Angeles:20230210T200000
DTSTAMP:20260419T084247
CREATED:20220926T171510Z
LAST-MODIFIED:20230123T213953Z
UID:5232-1676059200-1676059200@acrisurearena.com
SUMMARY:PBR: Pendleton Whisky Velocity Tour
DESCRIPTION:For the first time in the sport’s history\, PBR’s (Professional Bull Riders) Pendleton Whisky Velocity Tour will buck into Greater Palm Springs\, CA. \nFor two nights only\, some of the best bull riders in the world will battle the sport’s rankest bovine athletes in the ultimate showdown of man vs. beast in one of the most exciting live sporting events to witness. The Professional Bull Riders Pendleton Whisky Velocity Tour is the top expansion series of the PBR.  Featuring some of the best athletes of the sport going head to head with the fiercest bulls in the country. The PBR Pendleton Whisky Velocity Tour will bring all the high-energy sound\, lighting\, special effects and edge of your seat action that fans have come to expect from the World leader in the sport of bull riding. \nDuring the 2023 season\, the PBR will celebrate its 30th anniversary since 20 cowboys broke away from the traditional rodeo with the belief that bull riding could be a standalone sport. Since their trailblazing initiative\, the PBR has grown into a global phenomenon awarding nearly $300 million in prize money. Event goers will watch on as riders vie for crucial points in the race to be crowned the 2023 PBR Velocity Tour Champion. \nTickets can be purchased online at Ticketmaster.com and PBR.com or by calling PBR customer service at 1-800-732-1727. \nFeb. 10 – Purchase Parking HERE. \nFeb. 11 – Purchase Parking HERE. \n 
URL:https://acrisurearena.com/event/pbr/2023-02-10/
LOCATION:Acrisure Arena\, 75702 Varner Rd\, Palm Desert\, CA\, 92211\, United States
CATEGORIES:Family Shows,Sports
ATTACH;FMTTYPE=image/jpeg:https://acrisurearena.com/wp-content/uploads/2022/09/VenueWeb_VT_PalmSprings_1920x1080-1.jpg
END:VEVENT
END:VCALENDAR