BEGIN:VCALENDAR
VERSION:2.0
PRODID:-//Acrisure Arena - ECPv6.15.18//NONSGML v1.0//EN
CALSCALE:GREGORIAN
METHOD:PUBLISH
X-ORIGINAL-URL:https://acrisurearena.com
X-WR-CALDESC:Events for Acrisure Arena
REFRESH-INTERVAL;VALUE=DURATION:PT1H
X-Robots-Tag:noindex
X-PUBLISHED-TTL:PT1H
BEGIN:VTIMEZONE
TZID:America/Los_Angeles
BEGIN:DAYLIGHT
TZOFFSETFROM:-0800
TZOFFSETTO:-0700
TZNAME:PDT
DTSTART:20230312T100000
END:DAYLIGHT
BEGIN:STANDARD
TZOFFSETFROM:-0700
TZOFFSETTO:-0800
TZNAME:PST
DTSTART:20231105T090000
END:STANDARD
BEGIN:DAYLIGHT
TZOFFSETFROM:-0800
TZOFFSETTO:-0700
TZNAME:PDT
DTSTART:20240310T100000
END:DAYLIGHT
BEGIN:STANDARD
TZOFFSETFROM:-0700
TZOFFSETTO:-0800
TZNAME:PST
DTSTART:20241103T090000
END:STANDARD
BEGIN:DAYLIGHT
TZOFFSETFROM:-0800
TZOFFSETTO:-0700
TZNAME:PDT
DTSTART:20250309T100000
END:DAYLIGHT
BEGIN:STANDARD
TZOFFSETFROM:-0700
TZOFFSETTO:-0800
TZNAME:PST
DTSTART:20251102T090000
END:STANDARD
END:VTIMEZONE
BEGIN:VEVENT
DTSTART;TZID=America/Los_Angeles:20240324T110000
DTEND;TZID=America/Los_Angeles:20240324T121500
DTSTAMP:20260421T224516
CREATED:20240323T012129Z
LAST-MODIFIED:20240323T012312Z
UID:8168-1711278000-1711282500@acrisurearena.com
SUMMARY:Palm Springs International Pride Hockey Tournament - FINALS
DESCRIPTION:The Palm Springs International Pride Hockey Tournament features teams from Toronto\, Vancouver\, Chicago\, San Francisco\, Los Angeles\, Boston\, Minnesota\, Coachella Valley and more.  Join Coachella Valley Pride Hockey at Acrisure Arena on Sunday\, March 24\, Finals of the Palm Springs International Pride Hockey Tournament.     \n\nSun.\, March 24 FINALS played inside Acrisure Arena at 11a & 12:30p\n\nA FINALS: 11a will be the winner Game 23 (Home Team) and Game 24 (Visitor Team) \nB FINALS: 12:30p will be the winner of B1 Semi (Home Team) and B2 Semi (Visitor Team) \n\n\n\nThe four-day tournament takes place inside the Berger Foundation Iceplex March 20-23\, 2024\, and features a Recreational Division and Competitive division. The teams are welcoming fans from the Coachella Valley to cheer on their favorite team(s) from the stands.    \nSunday’s Finals games will be an exciting action-packed day with 11:00am and 12:30pm games open to the public to come sit in the stands at Acrisure Arena during both games.   \n\nAll guests are entering via the Iceplex “Welcome Center” doors.   \n\n\nMain Doors and The Patio will be closed. \n\n\nConcessions inside Acrisure Arena and The Patio will NOT be open.  \n\n\nOnly F & B purchased at the Iceplex Concessions is allowed inside the arena. \n\n\nRestrooms will be available inside the Arena and usual places inside the Iceplex.\nParking is complimentary – no need to provide your license plate at the Welcome Center. 
URL:https://acrisurearena.com/event/palm-springs-international-pride-hockey-tournament-finals/2024-03-24/
LOCATION:Acrisure Arena\, 75702 Varner Rd\, Palm Desert\, CA\, 92211\, United States
ATTACH;FMTTYPE=image/png:https://acrisurearena.com/wp-content/uploads/2024/03/1920x1080_Pride-Tournament.png
END:VEVENT
END:VCALENDAR